Workbook

Sheet Bảng tổng hợp dự toán
A1: UBND THÀNH PHỐ HỒ CHÍ MINH TRƯỜNG CAO ĐẲNG LÝ TỰ TRỌNG THÀNH PHỐ HỒ CHÍ MINH
A2: DỰ TOÁN CHI PHÍ ĐÀO TẠO THÍ ĐIỂM TRÌNH ĐỘ CAO ĐẲNG NGHỀ TRỌNG ĐIỂM CẤP ĐỘ QUỐC TẾ CHUYỂN GIAO TỪ ĐỨC
A3: NGHỀ: CÔNG NGHỆ Ô TÔ
A4: A. Thông tin chung:
A5: STT | B5: Nội dung | C5: Đơn vị tính | D5: Số lượng | E5: Ghi chú
A6: 1 | B6: Số lớp | C6: Lớp | D6: 1
A7: 2 | B7: Số lượng sinh viên | C7: SV | D7: 16
A8: 3 | B8: Thời gian khóa học | C8: Năm | D8: 3.5
A9: 4 | B9: Tổng số giờ đào tạo: | C9: Giờ | D9: 6728
A10: 4.1 | B10: Số giờ các môn học chung | C10: Giờ | D10: 540
A11: 4.2 | B11: Số giờ các học phần chuyên môn | C11: Giờ | D11: 6188
A12: B. Dự toán chi phí đào tạo:
A13: STT | B13: Nội dung chi | C13: Số tiền (đồng) | E13: Ghi chú
A14: 1 | B14: Tài liệu học tập, giảng dạy | C14: ='PL1 Tai lieu'!F30 -> 44749896 | E14: Phụ lục số 1
A15: 2 | B15: Chi tiền lương, phụ cấp lương và các khoản trích nộp theo lương của giáo viên trực tiếp tham gia giảng dạy | E15: Phụ lục số 2
A16: 2.1 | B16: Chi tiền lương, phụ cấp lương của giáo viên | C16: ='PL2.1.Lương GV '!J176 -> 1432560287 | E16: Phụ lục số 2.1
A17: 2.2 | B17: Các khoản trích nộp theo lương của giáo viên | C17: ='PL2.2. Trich nop luong GV '!L177 -> 231591645 | E17: Phụ lục số 2.2
A18: 3 | B18: Chi phí đào tạo ngoại ngữ chuyên ngành | C18: ='PL3. Ngoai ngữ'!F10 -> 549550000 | E18: Phụ lục số 3
A19: 4 | B19: Chi phí vật tư để học tập và thi tốt nghiệp | C19: ='PL4.Vật tư'!G381 -> 4060969440 | E19: Phụ lục số 4
A20: 5 | B20: Chi phí điện, nước | C20: ='PL5.Điện nước'!I63 -> 2.0471808e+08 | E20: Phụ lục số 5
A21: 6 | B21: Chi phí sửa chữa nhỏ tài sản, trang thiết bị đào tạo | C21: ='PL6- Sua chua TS'!F30 -> 288260000 | E21: Phụ lục số 6
A22: 7 | B22: Chi phí công tác quản lý lớp học | C22: ='PL7.Quản lý'!F24 -> 330300000 | E22: Phụ lục số 7
A23: 8 | B23: Chi học bổng cho sinh viên | C23: ='PL8.Học bổng'!F10 -> 81180000 | E23: Phụ lục số 8
A24: Tổng dự toán chi phí đào tạo cho 01 lớp | C24: =SUM(C14:C23) -> 7.2238794e+09
A26: Trong đó nguồn:
A27: 1. Thu học phí theo quy định hiện hành: | C27: =D7*32*236000*D8 -> 422912000 | E27: đồng
A28: 2. Ngân sách nhà nước hỗ trợ: | C28: =C24-C27 -> 6.8009674e+09 | E28: đồng
A29: Ghi chú:
B30: Dự toán chưa bao gồm:
B31: Chi phí mua phôi bằng của Đức, chuyên gia tham gia trong việc ra đề thi, tổ chức coi, chấm thi, chi phí quản lý cấp bằng của Đức.
B32: Thành phố Hồ Chí Minh, ngày 12 tháng 8 năm 2019
C33: HIỆU TRƯỞNG
C39: Phạm Hữu Lộc

Sheet PL1 Tai lieu
B1: Phụ lục 1:
A2: DỰ TOÁN CHI PHÍ TÀI LIỆU HỌC TẬP, GIẢNG DẠY
A4: TT | B4: Nội dung | C4: ĐVT | D4: Số lượng | E4: Đơn giá | F4: Thành tiền | G4: Ghi chú
A5: A | B5: Tài liệu học tập, giảng dạy
A6: I | B6: Tài liệu các môn học chung theo quy định của Việt Nam | F6: =SUM(F7:F12) -> 6035000
A7: 1 | B7: Pháp luật | C7: Quyển | D7: 20 | E7: 42500 | F7: =E7*D7 -> 850000
A8: 2 | B8: Giáo dục thể chất | C8: Quyển | D8: 20 | E8: 34000 | F8: =E8*D8 -> 680000
A9: 3 | B9: Giáo dục quốc phòng và an ninh | C9: Quyển | D9: 20 | E9: 42500 | F9: =E9*D9 -> 850000
A10: 4 | B10: Tin học | C10: Quyển | D10: 20 | E10: 51000 | F10: =E10*D10 -> 1020000
A11: 5 | B11: Ngoại ngữ | C11: Quyển | D11: 20 | E11: 68000 | F11: =E11*D11 -> 1360000
A12: 6 | B12: Giáo dục chính trị | C12: Quyển | D12: 20 | E12: 63750 | F12: =E12*D12 -> 1275000
A13: II | B13: Nguồn sở hữu của Tập đoàn Đào tạo AVESTOS | F13: =SUM(F14:F20) -> 18320000
A14: 7 | B14: Tài liệu hướng dẫn về phương pháp - lý luận học tập/giảng dạy môn Kinh tế học | C14: Quyển | D14: 20 | E14: 63750 | F14: =D14*E14 -> 1275000
A15: 8 | B15: Tài liệu hướng dẫn về phương pháp - lý luận học tập/giảng dạy môn Xã hội học | C15: Quyển | D15: 20 | E15: 102000 | F15: =D15*E15 -> 2040000
A16: 9 | B16: Tài liệu hướng dẫn về phương pháp - lý luận học tập/giảng dạy các học phần lý thuyết chuyên ngành | C16: Quyển | D16: 20 | E16: 297500 | F16: =D16*E16 -> 5950000
A17: 10 | B17: Tài liệu hướng dẫn về phương pháp - lý luận học tập/giảng dạy các học phần thực hành chuyên môn | C17: Quyển | D17: 20 | E17: 382500 | F17: =D17*E17 -> 7650000
A18: 11 | B18: Công cụ hỗ trợ quản lý học tập/giảng dạy bắt buộc: Sổ báo cáo | C18: Quyển | D18: 20 | E18: 29750 | F18: =D18*E18 -> 595000
A19: 12 | B19: Công cụ hỗ trợ quản lý học tập/giảng dạy bắt buộc: Sổ đầu bài | C19: Quyển | D19: 20 | E19: 25500 | F19: =D19*E19 -> 510000
A20: 13 | B20: Tài liệu đánh giá bao gồm mẫu đề thi, đáp án, hướng dẫn đánh giá và chấm điểm | C20: Bộ | D20: 20 | E20: 15000 | F20: =D20*E20 -> 300000
A21: III | B21: Nguồn sở hữu khác | F21: =SUM(F22:F29) -> 20394896
A22: 14 | B22: Kinh tế học - Xã hội học tổng quát | C22: Quyển | D22: 10 | E22: 136000 | F22: =E22*D22 -> 1360000
A23: 15 | B23: Kinh tế học - Xã hội học tổng quát - Đáp án | C23: Quyển | D23: 10 | E23: 136000 | F23: =E23*D23 -> 1360000
A24: 16 | B24: Ngữ pháp tiếng Đức tổng hợp A1-B1 (tiếng Đức) | C24: Quyển | D24: 10 | E24: 425000 | F24: =E24*D24 -> 4250000
A25: 17 | B25: Giáo trình tiếng Đức tổng hợp A1-B1 (tiếng Đức) | C25: Quyển | D25: 10 | E25: 450000 | F25: =E25*D25 -> 4500000
A26: 18 | B26: Sách giáo viên tiếng Đức tổng hợp A1-B1 (tiếng Đức) | C26: Quyển | D26: 10 | E26: 263500 | F26: =E26*D26 -> 2635000
A27: 19 | B27: Sách bài tập tiếng Đức tổng hợp A1-B1 (tiếng Đức) | C27: Quyển | D27: 10 | E27: 204000 | F27: =E27*D27 -> 2040000
A28: 20 | B28: Sổ giáo án (1 quyển 60 trang/1 môn x 41 học phần) | C28: Quyển | D28: 41 | E28: 49756 | F28: =E28*D28 -> 2039996
A29: 21 | B29: Sổ tay giáo viên (1 quyển 25 trang/1 môn x 41 học phần) | C29: Quyển | D29: 41 | E29: 53900 | F29: =E29*D29 -> 2209900
A30: TỔNG CỘNG | F30: =F21+F13+F6 -> 44749896

Sheet PL2.1.Lương GV 
B1: Phụ lục 2:
B2: Phụ lục 2.1:
B3: LƯƠNG, PHỤ CẤP LƯƠNG CỦA GIẢNG VIÊN NGHỀ: CÔNG NGHỆ Ô TÔ
A5: TT | B5: Mã MH | C5: Tên môn học/học phần | D5: Số giờ giảng dạy | E5: Tên giảng viên | F5: Tổng cộng hệ số để tính đơn giá 01 giờ chuẩn | G5: Tổng lương trong năm | H5: Đơn giá 01 giờ giảng chuẩn (đồng/giờ) | I5: Phụ cấp đứng lớp | J5: Thành tiền
A6: (1) | B6: (2) | C6: (3) | D6: (4) | E6: (5) | F6: (6) | G6: (7)= (6) x 1.490.000 x 12 | H6: (8)=(7)/450 x 44/52 | I6: (9)=(8)*số tiết*tỷ lệ | J6: (10) = [(8) x (4) x 1,2] + (9)
A7: 1 | B7: KTH | C7: Kinh tế học và xã hội học | D7: 190 | E7: Nguyễn Trọng Nghĩa | F7: 5.34 | G7: =ROUND(F7*1490000*12,0) -> 95479200 | H7: =ROUND(G7/450*44/52,0) -> 179534 | I7: =ROUND(H7*D7*25/100,0) -> 8527865 | J7: =ROUND((D7*H7*1.2)+I7,0) -> 49461617
A8: 2 | B8: CT | C8: Chính trị | D8: 90 | E8: Lê Thị Hồng Vân | F8: 4.45 | G8: =ROUND(F8*1490000*12,0) -> 79566000 | H8: =ROUND(G8/450*44/52,0) -> 149611 | I8: =ROUND(H8*D8*45/100,0) -> 6059246 | J8: =ROUND((D8*H8*1.2)+I8,0) -> 22217234
A9: 3 | B9: HP1 | C9: Kiểm tra bảo dưỡng hệ thống và xe theo thông số yêu cầu | D9: 80 | E9: Nguyễn Anh Tuấn | F9: 5.02 | G9: =ROUND(F9*1490000*12,0) -> 89757600 | H9: =ROUND(G9/450*44/52,0) -> 168775 | I9: =ROUND(H9*D9*25/100,0) -> 3375500 | J9: =ROUND((D9*H9*1.2)+I9,0) -> 19577900
A10: 4 | B10: HP2 | C10: Kiểm tra, tháo, đổi và lắp ráp hệ thống và cụm chi tiết đơn giản | D10: 100 | E10: Triệu Phú Nguyên | F10: 4.03 | G10: =ROUND(F10*1490000*12,0) -> 72056400 | H10: =ROUND(G10/450*44/52,0) -> 135491 | I10: =ROUND(H10*D10*25/100,0) -> 3387275 | J10: =ROUND((D10*H10*1.2)+I10,0) -> 19646195
A11: 5 | B11: HP3 | C11: Xác định và khắc phục sự cố | D11: 100 | E11: Hà Quốc Bảo | F11: 3.25 | G11: =ROUND(F11*1490000*12,0) -> 58110000 | H11: =ROUND(G11/450*44/52,0) -> 109267 | I11: =ROUND(H11*D11*25/100,0) -> 2731675 | J11: =ROUND((D11*H11*1.2)+I11,0) -> 15843715
A12: 6 | B12: HP4 | C12: Thực hiện công việc chuyển đổi theo yêu cầu của khách hàng | D12: 40 | E12: Nguyễn Hữu Mạnh | F12: 4.38 | G12: =ROUND(F12*1490000*12,0) -> 78314400 | H12: =ROUND(G12/450*44/52,0) -> 147258 | I12: =ROUND(H12*D12*25/100,0) -> 1472580 | J12: =ROUND((D12*H12*1.2)+I12,0) -> 8540964
A13: 7 | B13: HP5 | C13: Kiểm tra và thực hiện công việc bổ sung | D13: 60 | E13: Triệu Phú Nguyên | F13: =VLOOKUP(E13,$E$7:F7:$F$12,2,0) -> 4.03 | G13: =ROUND(F13*1490000*12,0) -> 72056400 | H13: =ROUND(G13/450*44/52,0) -> 135491 | I13: =ROUND(H13*D13*25/100,0) -> 2032365 | J13: =ROUND((D13*H13*1.2)+I13,0) -> 11787717
A14: 8 | B14: HP6 | C14: Chẩn đoán và khắc phục những sự cố chức năng trong các hệ thống điện, nạp điện và khởi động | D14: 80 | E14: Hà Quốc Bảo | F14: =VLOOKUP(E14,$E$7:F8:$F$12,2,0) -> 3.25 | G14: =ROUND(F14*1490000*12,0) -> 58110000 | H14: =ROUND(G14/450*44/52,0) -> 109267 | I14: =ROUND(H14*D14*25/100,0) -> 2185340 | J14: =ROUND((D14*H14*1.2)+I14,0) -> 12674972
A15: 9 | B15: HP7 | C15: Sửa chữa cụm chi tiết và hệ thống chống ăn mòn | D15: 60 | E15: Nguyễn Hữu Mạnh | F15: =VLOOKUP(E15,$E$7:F9:$F$12,2,0) -> 4.38 | G15: =ROUND(F15*1490000*12,0) -> 78314400 | H15: =ROUND(G15/450*44/52,0) -> 147258 | I15: =ROUND(H15*D15*25/100,0) -> 2208870 | J15: =ROUND((D15*H15*1.2)+I15,0) -> 12811446
A16: 10 | B16: HP8 | C16: Chẩn đoán hệ thống cơ điện tử của bộ dẫn động | D16: 80 | E16: Nguyễn Anh Tuấn | F16: =VLOOKUP(E16,$E$7:F10:$F$12,2,0) -> 5.02 | G16: =ROUND(F16*1490000*12,0) -> 89757600 | H16: =ROUND(G16/450*44/52,0) -> 168775 | I16: =ROUND(H16*D16*25/100,0) -> 3375500 | J16: =ROUND((D16*H16*1.2)+I16,0) -> 19577900
A17: 11 | B17: HP9 | C17: Thực hiện nhiệm vụ dịch vụ trên hệ thống tiện nghi và hệ thống an toàn | D17: 80 | E17: Hà Quốc Bảo | F17: =VLOOKUP(E17,$E$7:F11:$F$12,2,0) -> 3.25 | G17: =ROUND(F17*1490000*12,0) -> 58110000 | H17: =ROUND(G17/450*44/52,0) -> 109267 | I17: =ROUND(H17*D17*25/100,0) -> 2185340 | J17: =ROUND((D17*H17*1.2)+I17,0) -> 12674972
A18: 12 | B18: HP10 | C18: Sửa chữa hỏng hóc cho hệ thống khung gầm và hệ thống phanh | D18: 80 | E18: Nguyễn Hữu Mạnh | F18: =VLOOKUP(E18,$E$7:F12:$F$12,2,0) -> 4.38 | G18: =ROUND(F18*1490000*12,0) -> 78314400 | H18: =ROUND(G18/450*44/52,0) -> 147258 | I18: =ROUND(H18*D18*25/100,0) -> 2945160 | J18: =ROUND((D18*H18*1.2)+I18,0) -> 17081928
A19: 13 | B19: HP11P | C19: Mạng hóa hệ thống dẫn động và hệ thống an toàn được chẩn đoán và sửa chữa | D19: 80 | E19: Nguyễn Anh Tuấn | F19: =VLOOKUP(E19,$E$7:F13:$F$12,2,0) -> 5.02 | G19: =ROUND(F19*1490000*12,0) -> 89757600 | H19: =ROUND(G19/450*44/52,0) -> 168775 | I19: =ROUND(H19*D19*25/100,0) -> 3375500 | J19: =ROUND((D19*H19*1.2)+I19,0) -> 19577900
A20: 14 | B20: HP12P | C20: Chuẩn bị phương tiện xe để kiểm tra an toàn và kiểm định | D20: 40 | E20: Triệu Phú Nguyên | F20: =VLOOKUP(E20,$E$7:F14:$F$12,2,0) -> 4.03 | G20: =ROUND(F20*1490000*12,0) -> 72056400 | H20: =ROUND(G20/450*44/52,0) -> 135491 | I20: =ROUND(H20*D20*25/100,0) -> 1354910 | J20: =ROUND((D20*H20*1.2)+I20,0) -> 7858478
A21: 15 | B21: HP13P | C21: Sửa các chi tiết bộ dẫn động | D21: 80 | E21: Nguyễn Hữu Mạnh | F21: =VLOOKUP(E21,$E$7:F15:$F$12,2,0) -> 4.38 | G21: =ROUND(F21*1490000*12,0) -> 78314400 | H21: =ROUND(G21/450*44/52,0) -> 147258 | I21: =ROUND(H21*D21*25/100,0) -> 2945160 | J21: =ROUND((D21*H21*1.2)+I21,0) -> 17081928
A22: 16 | B22: HP14P | C22: Trang bị, hoán cải và nâng cấp các hệ thống và thành phần | D22: 80 | E22: Nguyễn Anh Tuấn | F22: =VLOOKUP(E22,$E$7:F16:$F$12,2,0) -> 5.02 | G22: =ROUND(F22*1490000*12,0) -> 89757600 | H22: =ROUND(G22/450*44/52,0) -> 168775 | I22: =ROUND(H22*D22*25/100,0) -> 3375500 | J22: =ROUND((D22*H22*1.2)+I22,0) -> 19577900
A23: 17 | B23: TT1 | C23: Vận hành xe và các hệ thống của xe | D23: 112 | G23: =ROUND(F23*1490000*12,0) -> 0 | H23: =ROUND(G23/450*44/52,0) -> 0 | I23: =ROUND(H23*D23*25/100,0) -> 0 | J23: =ROUND((D23*H23*1.2)+I23,0) -> 0
C24: a) Tôn trọng và vận dụng các quy định và hướng dẫn về an toàn và về vận hành xe | D24: 16 | E24: Triệu Phú Nguyên | F24: =VLOOKUP(E24,$E$7:F18:$F$12,2,0) -> 4.03 | G24: =ROUND(F24*1490000*12,0) -> 72056400 | H24: =ROUND(G24/450*44/52,0) -> 135491 | I24: =ROUND(H24*D24*25/100,0) -> 541964 | J24: =ROUND((D24*H24*1.2)+I24,0) -> 3143391
C25: b) Vận dụng và giải thích các văn bản hướng dẫn về vận hành xe | D25: 32 | E25: Triệu Phú Nguyên | F25: =VLOOKUP(E25,$E$7:F19:$F$12,2,0) -> 4.03 | G25: =ROUND(F25*1490000*12,0) -> 72056400 | H25: =ROUND(G25/450*44/52,0) -> 135491 | I25: =ROUND(H25*D25*25/100,0) -> 1083928 | J25: =ROUND((D25*H25*1.2)+I25,0) -> 6286782
C26: c) Thao tác các phần tử vận hành xe, các trang thiết bị vận hành và các hệ thống trên xe cũng như thiết bị bảo vệ của chúng | D26: 32 | E26: Triệu Phú Nguyên | F26: =VLOOKUP(E26,$E$7:F20:$F$12,2,0) -> 4.03 | G26: =ROUND(F26*1490000*12,0) -> 72056400 | H26: =ROUND(G26/450*44/52,0) -> 135491 | I26: =ROUND(H26*D26*25/100,0) -> 1083928 | J26: =ROUND((D26*H26*1.2)+I26,0) -> 6286782
C27: d) Vận dụng thực đơn chức năng, vận hành các hệ thống thông tin, giao tiếp và hệ thống an toàn | D27: 32 | E27: Triệu Phú Nguyên | F27: =VLOOKUP(E27,$E$7:F21:$F$12,2,0) -> 4.03 | G27: =ROUND(F27*1490000*12,0) -> 72056400 | H27: =ROUND(G27/450*44/52,0) -> 135491 | I27: =ROUND(H27*D27*25/100,0) -> 1083928 | J27: =ROUND((D27*H27*1.2)+I27,0) -> 6286782
A28: 18 | B28: TT2 | C28: Ngừng và đưa vào hoạt động các hệ thống kỹ thuật của xe | D28: 108 | G28: =ROUND(F28*1490000*12,0) -> 0 | H28: =ROUND(G28/450*44/52,0) -> 0 | I28: =ROUND(H28*D28*25/100,0) -> 0 | J28: =ROUND((D28*H28*1.2)+I28,0) -> 0
C29: a) Vận dụng các qui tắc của nhà chế tạo, các quy định an toàn và biện pháp bảo vệ, đặc biệt các tiêu chuẩn và các quy định khi làm các công việc về điện trên xe cao áp cũng như các quy định phòng chống tai nạn và quy tắc kỹ thuật. | D29: 19 | E29: Nguyễn Anh Tuấn | F29: =VLOOKUP(E29,$E$7:F23:$F$12,2,0) -> 5.02 | G29: =ROUND(F29*1490000*12,0) -> 89757600 | H29: =ROUND(G29/450*44/52,0) -> 168775 | I29: =ROUND(H29*D29*25/100,0) -> 801681 | J29: =ROUND((D29*H29*1.2)+I29,0) -> 4649751
C30: b) Nhận biết các nguy cơ cao tiềm ẩn trên xe cơ giới | D30: 8 | E30: Nguyễn Anh Tuấn | F30: =VLOOKUP(E30,$E$7:F24:$F$12,2,0) -> 5.02 | G30: =ROUND(F30*1490000*12,0) -> 89757600 | H30: =ROUND(G30/450*44/52,0) -> 168775 | I30: =ROUND(H30*D30*25/100,0) -> 337550 | J30: =ROUND((D30*H30*1.2)+I30,0) -> 1957790
C31: c) Tôn trọng các quy định an toàn đối với hệ thống cao áp và bảo vệ không gian làm việc | D31: 8 | E31: Nguyễn Anh Tuấn | F31: =VLOOKUP(E31,$E$7:F25:$F$12,2,0) -> 5.02 | G31: =ROUND(F31*1490000*12,0) -> 89757600 | H31: =ROUND(G31/450*44/52,0) -> 168775 | I31: =ROUND(H31*D31*25/100,0) -> 337550 | J31: =ROUND((D31*H31*1.2)+I31,0) -> 1957790
C32: d) Ngắt hoàn toàn điện áp trên các hệ thống theo quy định, đảm bảo chống tự đóng điện, xác định được tình trạng không còn điện thế trong cáchệ thống của xe | D32: 16 | E32: Nguyễn Anh Tuấn | F32: =VLOOKUP(E32,$E$7:F26:$F$12,2,0) -> 5.02 | G32: =ROUND(F32*1490000*12,0) -> 89757600 | H32: =ROUND(G32/450*44/52,0) -> 168775 | I32: =ROUND(H32*D32*25/100,0) -> 675100 | J32: =ROUND((D32*H32*1.2)+I32,0) -> 3915580
C33: e) Kiểm tra chức năng và lập hồ sơ kết quả kiểm tra | D33: 8 | E33: Nguyễn Anh Tuấn | F33: =VLOOKUP(E33,$E$7:F27:$F$12,2,0) -> 5.02 | G33: =ROUND(F33*1490000*12,0) -> 89757600 | H33: =ROUND(G33/450*44/52,0) -> 168775 | I33: =ROUND(H33*D33*25/100,0) -> 337550 | J33: =ROUND((D33*H33*1.2)+I33,0) -> 1957790
C34: f) Đánh giá và phân tích nguy cơ mất an toàn điện | D34: 8 | E34: Nguyễn Anh Tuấn | F34: =VLOOKUP(E34,$E$7:F28:$F$12,2,0) -> 5.02 | G34: =ROUND(F34*1490000*12,0) -> 89757600 | H34: =ROUND(G34/450*44/52,0) -> 168775 | I34: =ROUND(H34*D34*25/100,0) -> 337550 | J34: =ROUND((D34*H34*1.2)+I34,0) -> 1957790
C35: g) Đưa các hệ thống kỹ thuật của xe vào trạng thái hoạt động an toàn khi sửa chữa, bảo dưỡng; đặc biệt chú ý các vật liệu dễ gây cháy nổ, nhiên liệu, khí hóa lỏng, các chất lỏng, cũng như điện áp | D35: 41 | E35: Nguyễn Anh Tuấn | F35: =VLOOKUP(E35,$E$7:F29:$F$12,2,0) -> 5.02 | G35: =ROUND(F35*1490000*12,0) -> 89757600 | H35: =ROUND(G35/450*44/52,0) -> 168775 | I35: =ROUND(H35*D35*25/100,0) -> 1729944 | J35: =ROUND((D35*H35*1.2)+I35,0) -> 10033674
A36: 19 | B36: TT3 | C36: Đo và kiểm tra trên các hệ thống của xe | D36: 153 | G36: =ROUND(F36*1490000*12,0) -> 0 | H36: =ROUND(G36/450*44/52,0) -> 0 | I36: =ROUND(H36*D36*25/100,0) -> 0 | J36: =ROUND((D36*H36*1.2)+I36,0) -> 0
C37: a) Xác định các cơ sở dữ liệu tiêu chuẩn, lựa chọn phương pháp và dụng cụ đo | D37: 16 | E37: Hà Quốc Bảo | F37: =VLOOKUP(E37,$E$7:F31:$F$12,2,0) -> 3.25 | G37: =ROUND(F37*1490000*12,0) -> 58110000 | H37: =ROUND(G37/450*44/52,0) -> 109267 | I37: =ROUND(H37*D37*25/100,0) -> 437068 | J37: =ROUND((D37*H37*1.2)+I37,0) -> 2534994
C38: b) Áp dụng các biện pháp bảo vệ chống dòng điện chạy qua người và hồ quang nhiễu | D38: 8 | E38: Hà Quốc Bảo | F38: =VLOOKUP(E38,$E$7:F32:$F$12,2,0) -> 3.25 | G38: =ROUND(F38*1490000*12,0) -> 58110000 | H38: =ROUND(G38/450*44/52,0) -> 109267 | I38: =ROUND(H38*D38*25/100,0) -> 218534 | J38: =ROUND((D38*H38*1.2)+I38,0) -> 1267497
C39: c) Ghi nhận trị số đo được và so sánh với trị số tiêu chuẩn; đặc biệt cần đo, kiểm tra và đánh giá các thông số và tín hiệu điện, điện tử của các chi tiết, các cụm chi tiết và các hệ thống của xe | D39: 24 | E39: Hà Quốc Bảo | F39: =VLOOKUP(E39,$E$7:F33:$F$12,2,0) -> 3.25 | G39: =ROUND(F39*1490000*12,0) -> 58110000 | H39: =ROUND(G39/450*44/52,0) -> 109267 | I39: =ROUND(H39*D39*25/100,0) -> 655602 | J39: =ROUND((D39*H39*1.2)+I39,0) -> 3802492
C40: d) Kiểm tra bằng mắt các hư hỏng cơ học của các mối nối, dây dẫn và và các cụm kết nối điện. | D40: 8 | E40: Hà Quốc Bảo | F40: =VLOOKUP(E40,$E$7:F34:$F$12,2,0) -> 3.25 | G40: =ROUND(F40*1490000*12,0) -> 58110000 | H40: =ROUND(G40/450*44/52,0) -> 109267 | I40: =ROUND(H40*D40*25/100,0) -> 218534 | J40: =ROUND((D40*H40*1.2)+I40,0) -> 1267497
C41: e) Kiểm tra các chức năng của các chi tiết, dây dẫn và thiết bị bảo vệ | D41: 12 | E41: Hà Quốc Bảo | F41: =VLOOKUP(E41,$E$7:F35:$F$12,2,0) -> 3.25 | G41: =ROUND(F41*1490000*12,0) -> 58110000 | H41: =ROUND(G41/450*44/52,0) -> 109267 | I41: =ROUND(H41*D41*25/100,0) -> 327801 | J41: =ROUND((D41*H41*1.2)+I41,0) -> 1901246
C42: f) Lựa chọn và sử dụng các dụng cụ đo để đo kiểm chiều dài, đo góc và kiểm tra bề mặt | D42: 8 | E42: Hà Quốc Bảo | F42: =VLOOKUP(E42,$E$7:F36:$F$12,2,0) -> 3.25 | G42: =ROUND(F42*1490000*12,0) -> 58110000 | H42: =ROUND(G42/450*44/52,0) -> 109267 | I42: =ROUND(H42*D42*25/100,0) -> 218534 | J42: =ROUND((D42*H42*1.2)+I42,0) -> 1267497
C43: g) Đo chiều dài, đặc biệt là đo bằng thước cặp, panme và đồng hồ so; kiểm tra dung sai và các mối ghép | D43: 8 | E43: Hà Quốc Bảo | F43: =VLOOKUP(E43,$E$7:F37:$F$12,2,0) -> 3.25 | G43: =ROUND(F43*1490000*12,0) -> 58110000 | H43: =ROUND(G43/450*44/52,0) -> 109267 | I43: =ROUND(H43*D43*25/100,0) -> 218534 | J43: =ROUND((D43*H43*1.2)+I43,0) -> 1267497
C44: h) Kiểm tra chi tiết gia công bằng ke góc, dưỡng kiểm giới hạn và dưỡng kiểm ren | D44: 8 | E44: Hà Quốc Bảo | F44: =VLOOKUP(E44,$E$7:F38:$F$12,2,0) -> 3.25 | G44: =ROUND(F44*1490000*12,0) -> 58110000 | H44: =ROUND(G44/450*44/52,0) -> 109267 | I44: =ROUND(H44*D44*25/100,0) -> 218534 | J44: =ROUND((D44*H44*1.2)+I44,0) -> 1267497
C45: i) Đo và kiểm tra các thông số vật lý, đặc biệt là với các thông số áp suất và nhiệt độ | D45: 12 | E45: Hà Quốc Bảo | F45: =VLOOKUP(E45,$E$7:F39:$F$12,2,0) -> 3.25 | G45: =ROUND(F45*1490000*12,0) -> 58110000 | H45: =ROUND(G45/450*44/52,0) -> 109267 | I45: =ROUND(H45*D45*25/100,0) -> 327801 | J45: =ROUND((D45*H45*1.2)+I45,0) -> 1901246
C46: j) Lập hồ sơ kết quả kiểm tra | D46: 8 | E46: Hà Quốc Bảo | F46: =VLOOKUP(E46,$E$7:F40:$F$12,2,0) -> 3.25 | G46: =ROUND(F46*1490000*12,0) -> 58110000 | H46: =ROUND(G46/450*44/52,0) -> 109267 | I46: =ROUND(H46*D46*25/100,0) -> 218534 | J46: =ROUND((D46*H46*1.2)+I46,0) -> 1267497
C47: k) Kiểm tra và đánh giá chức năng của dây bảo vệ và dây đẳng thế | D47: 25 | E47: Hà Quốc Bảo | F47: =VLOOKUP(E47,$E$7:F41:$F$12,2,0) -> 3.25 | G47: =ROUND(F47*1490000*12,0) -> 58110000 | H47: =ROUND(G47/450*44/52,0) -> 109267 | I47: =ROUND(H47*D47*25/100,0) -> 682919 | J47: =ROUND((D47*H47*1.2)+I47,0) -> 3960929
C48: l) Đo và đánh giá điện trở cách điện | D48: 16 | E48: Hà Quốc Bảo | F48: =VLOOKUP(E48,$E$7:F42:$F$12,2,0) -> 3.25 | G48: =ROUND(F48*1490000*12,0) -> 58110000 | H48: =ROUND(G48/450*44/52,0) -> 109267 | I48: =ROUND(H48*D48*25/100,0) -> 437068 | J48: =ROUND((D48*H48*1.2)+I48,0) -> 2534994
A49: 20 | B49: TT4 | C49: Thực hiện các công việc dịch vụ và bảo dưỡng | D49: 401 | G49: =ROUND(F49*1490000*12,0) -> 0 | H49: =ROUND(G49/450*44/52,0) -> 0 | I49: =ROUND(H49*D49*25/100,0) -> 0 | J49: =ROUND((D49*H49*1.2)+I49,0) -> 0
C50: a) Vận dụng các quy tắc an toàn lao động cũng như hướng dẫn của nhà chế tạo khi vận chuyển và nâng hàng | D50: 16 | E50: Nguyễn Hữu Mạnh | F50: =VLOOKUP(E50,$E$7:F44:$F$12,2,0) -> 4.38 | G50: =ROUND(F50*1490000*12,0) -> 78314400 | H50: =ROUND(G50/450*44/52,0) -> 147258 | I50: =ROUND(H50*D50*25/100,0) -> 589032 | J50: =ROUND((D50*H50*1.2)+I50,0) -> 3416386
C51: b) Di chuyển, sắp đặt, nâng lên, hạ xuống và cố định xe, các cụm chi tiết và các hệ thống của xe | D51: 40 | E51: Nguyễn Hữu Mạnh | F51: =VLOOKUP(E51,$E$7:F45:$F$12,2,0) -> 4.38 | G51: =ROUND(F51*1490000*12,0) -> 78314400 | H51: =ROUND(G51/450*44/52,0) -> 147258 | I51: =ROUND(H51*D51*25/100,0) -> 1472580 | J51: =ROUND((D51*H51*1.2)+I51,0) -> 8540964
C52: c) Thực hiện công việc bảo dưỡng theo yêu cầu, đặc biệt là kiểm tra, súc rửa, thay mới dầu nhớt và tham gia xử lý chất thải | D52: 24 | E52: Nguyễn Hữu Mạnh | F52: =VLOOKUP(E52,$E$7:F46:$F$12,2,0) -> 4.38 | G52: =ROUND(F52*1490000*12,0) -> 78314400 | H52: =ROUND(G52/450*44/52,0) -> 147258 | I52: =ROUND(H52*D52*25/100,0) -> 883548 | J52: =ROUND((D52*H52*1.2)+I52,0) -> 5124578
C53: d) Kiểm tra các chi tiết, cụm chi tiết và hệ thống cơ – điện về các hư hỏng, độ mòn, độ kín không rò, độ chênh vị trí và khả năng hoạt động | D53: 56 | E53: Nguyễn Hữu Mạnh | F53: =VLOOKUP(E53,$E$7:F47:$F$12,2,0) -> 4.38 | G53: =ROUND(F53*1490000*12,0) -> 78314400 | H53: =ROUND(G53/450*44/52,0) -> 147258 | I53: =ROUND(H53*D53*25/100,0) -> 2061612 | J53: =ROUND((D53*H53*1.2)+I53,0) -> 11957350
C54: e) Vận dụng sơ đồ mạch và sơ đồ chức năng, kiểm tra các ống dẫn thủy lực, khí nén, dây điện, các cụm kết nối và mối nối cơ khí | D54: 40 | E54: Nguyễn Hữu Mạnh | F54: =VLOOKUP(E54,$E$7:F48:$F$12,2,0) -> 4.38 | G54: =ROUND(F54*1490000*12,0) -> 78314400 | H54: =ROUND(G54/450*44/52,0) -> 147258 | I54: =ROUND(H54*D54*25/100,0) -> 1472580 | J54: =ROUND((D54*H54*1.2)+I54,0) -> 8540964
C55: f) Đo và điều chỉnh áp suất tại các hệ thống thủy lực và khí nén | D55: 24 | E55: Nguyễn Hữu Mạnh | F55: =VLOOKUP(E55,$E$7:F49:$F$12,2,0) -> 4.38 | G55: =ROUND(F55*1490000*12,0) -> 78314400 | H55: =ROUND(G55/450*44/52,0) -> 147258 | I55: =ROUND(H55*D55*25/100,0) -> 883548 | J55: =ROUND((D55*H55*1.2)+I55,0) -> 5124578
C56: g) Vận dụng các hướng dẫn về bảo dưỡng và đo kiểm và thực hiện các công việc bảo dưỡng | D56: 74 | E56: Nguyễn Hữu Mạnh | F56: =VLOOKUP(E56,$E$7:F50:$F$12,2,0) -> 4.38 | G56: =ROUND(F56*1490000*12,0) -> 78314400 | H56: =ROUND(G56/450*44/52,0) -> 147258 | I56: =ROUND(H56*D56*25/100,0) -> 2724273 | J56: =ROUND((D56*H56*1.2)+I56,0) -> 15800783
C57: h) Thực hiện kiểm tra chức năng và đọc kết quả từ bộ nhớ lỗi chức năng | D57: 24 | E57: Nguyễn Hữu Mạnh | F57: =VLOOKUP(E57,$E$7:F51:$F$12,2,0) -> 4.38 | G57: =ROUND(F57*1490000*12,0) -> 78314400 | H57: =ROUND(G57/450*44/52,0) -> 147258 | I57: =ROUND(H57*D57*25/100,0) -> 883548 | J57: =ROUND((D57*H57*1.2)+I57,0) -> 5124578
C58: i) Lập hồ sơ quá trình làm việc cũng như kết quả đo kiểm | D58: 21 | E58: Nguyễn Hữu Mạnh | F58: =VLOOKUP(E58,$E$7:F52:$F$12,2,0) -> 4.38 | G58: =ROUND(F58*1490000*12,0) -> 78314400 | H58: =ROUND(G58/450*44/52,0) -> 147258 | I58: =ROUND(H58*D58*25/100,0) -> 773105 | J58: =ROUND((D58*H58*1.2)+I58,0) -> 4484007
C59: j) Thực hiện công việc điều chỉnh đối với xe và các hệ thống trên xe | D59: 50 | E59: Nguyễn Hữu Mạnh | F59: =VLOOKUP(E59,$E$7:F53:$F$12,2,0) -> 4.38 | G59: =ROUND(F59*1490000*12,0) -> 78314400 | H59: =ROUND(G59/450*44/52,0) -> 147258 | I59: =ROUND(H59*D59*25/100,0) -> 1840725 | J59: =ROUND((D59*H59*1.2)+I59,0) -> 10676205
C60: k) Lập và thông qua biên bản đo kiểm | D60: 32 | E60: Nguyễn Hữu Mạnh | F60: =VLOOKUP(E60,$E$7:F54:$F$12,2,0) -> 4.38 | G60: =ROUND(F60*1490000*12,0) -> 78314400 | H60: =ROUND(G60/450*44/52,0) -> 147258 | I60: =ROUND(H60*D60*25/100,0) -> 1178064 | J60: =ROUND((D60*H60*1.2)+I60,0) -> 6832771
A61: 21 | B61: TT5 | C61: Chẩn đoán lỗi và các sự cố trên xe và các hệ thống của xe | D61: 322 | G61: =ROUND(F61*1490000*12,0) -> 0 | H61: =ROUND(G61/450*44/52,0) -> 0 | I61: =ROUND(H61*D61*25/100,0) -> 0 | J61: =ROUND((D61*H61*1.2)+I61,0) -> 0
C62: a) Thấu hiểu khiếu nại của khách hàng, thực hiện kiểm tra chức năng và xác địnhphương pháp chẩn đoán | D62: 16 | E62: Hà Quốc Bảo | F62: =VLOOKUP(E62,$E$7:F56:$F$12,2,0) -> 3.25 | G62: =ROUND(F62*1490000*12,0) -> 58110000 | H62: =ROUND(G62/450*44/52,0) -> 109267 | I62: =ROUND(H62*D62*25/100,0) -> 437068 | J62: =ROUND((D62*H62*1.2)+I62,0) -> 2534994
C63: b) Xác định các hư hỏng và nhiễu loạn chức năng trong hệ thống cơ khí, cơ điện tử, khí nén, thủy lực và trong hệ thống kết nối mạng của xe và trong các bộ phận của hệ thống | D63: 72 | E63: Hà Quốc Bảo | F63: =VLOOKUP(E63,$E$7:F57:$F$12,2,0) -> 3.25 | G63: =ROUND(F63*1490000*12,0) -> 58110000 | H63: =ROUND(G63/450*44/52,0) -> 109267 | I63: =ROUND(H63*D63*25/100,0) -> 1966806 | J63: =ROUND((D63*H63*1.2)+I63,0) -> 11407475
C64: c) Xác định lỗi và nguyên nhân với sự hỗ trợ của sơ đồ chức năng và sơ đồ mạch. | D64: 32 | E64: Hà Quốc Bảo | F64: =VLOOKUP(E64,$E$7:F58:$F$12,2,0) -> 3.25 | G64: =ROUND(F64*1490000*12,0) -> 58110000 | H64: =ROUND(G64/450*44/52,0) -> 109267 | I64: =ROUND(H64*D64*25/100,0) -> 874136 | J64: =ROUND((D64*H64*1.2)+I64,0) -> 5069989
C65: d) Lập biên bản kiểm tra và lập hồ sơ kết quả kiểm tra | D65: 8 | E65: Hà Quốc Bảo | F65: =VLOOKUP(E65,$E$7:F59:$F$12,2,0) -> 3.25 | G65: =ROUND(F65*1490000*12,0) -> 58110000 | H65: =ROUND(G65/450*44/52,0) -> 109267 | I65: =ROUND(H65*D65*25/100,0) -> 218534 | J65: =ROUND((D65*H65*1.2)+I65,0) -> 1267497
C66: e) Kiểm tra, đánh giá và tham khảo nguyện vọng khách hàng về các hệ thống điện trên xe, hệ thống điện tăng áp, hệ thống khởi động và hệ thống chiếu sáng, lập hồ sơ kết quả kiểm tra | D66: 40 | E66: Hà Quốc Bảo | F66: =VLOOKUP(E66,$E$7:F60:$F$12,2,0) -> 3.25 | G66: =ROUND(F66*1490000*12,0) -> 58110000 | H66: =ROUND(G66/450*44/52,0) -> 109267 | I66: =ROUND(H66*D66*25/100,0) -> 1092670 | J66: =ROUND((D66*H66*1.2)+I66,0) -> 6337486
C67: f) Can thiệp bằng các biện pháp để loại bỏ nguy hại do lỗi cách điện | D67: 16 | E67: Hà Quốc Bảo | F67: =VLOOKUP(E67,$E$7:F61:$F$12,2,0) -> 3.25 | G67: =ROUND(F67*1490000*12,0) -> 58110000 | H67: =ROUND(G67/450*44/52,0) -> 109267 | I67: =ROUND(H67*D67*25/100,0) -> 437068 | J67: =ROUND((D67*H67*1.2)+I67,0) -> 2534994
C68: g) Nhận biết mối quan hệ của các cơ sở dữ liệu giữa các thiết bị điều khiển | D68: 16 | E68: Hà Quốc Bảo | F68: =VLOOKUP(E68,$E$7:F62:$F$12,2,0) -> 3.25 | G68: =ROUND(F68*1490000*12,0) -> 58110000 | H68: =ROUND(G68/450*44/52,0) -> 109267 | I68: =ROUND(H68*D68*25/100,0) -> 437068 | J68: =ROUND((D68*H68*1.2)+I68,0) -> 2534994
C69: h) Xác định tình trạng hệ thống với sự hỗ trợ của thiết bị chẩn đoán, đối chiếu thông tin tại ngân hàng cơ sở dữ liệu và đánh giá kết quả | D69: 24 | E69: Hà Quốc Bảo | F69: =VLOOKUP(E69,$E$7:F63:$F$12,2,0) -> 3.25 | G69: =ROUND(F69*1490000*12,0) -> 58110000 | H69: =ROUND(G69/450*44/52,0) -> 109267 | I69: =ROUND(H69*D69*25/100,0) -> 655602 | J69: =ROUND((D69*H69*1.2)+I69,0) -> 3802492
C70: i) Vận dụng chương trình tìm lỗi, thông tin của nhà chế tạo và ngân hàng cơ sở dữ liệu cũng như sử dụng đường dây nóng và chẩn đoán từ xa | D70: 24 | E70: Hà Quốc Bảo | F70: =VLOOKUP(E70,$E$7:F64:$F$12,2,0) -> 3.25 | G70: =ROUND(F70*1490000*12,0) -> 58110000 | H70: =ROUND(G70/450*44/52,0) -> 109267 | I70: =ROUND(H70*D70*25/100,0) -> 655602 | J70: =ROUND((D70*H70*1.2)+I70,0) -> 3802492
C71: j) Xác định, cập nhật phần mềm thiết bị điều khiển, thực hiện thiết lập lại hệ thống và điều chỉnh theo các trị số đã thu thập được | D71: 26 | E71: Hà Quốc Bảo | F71: =VLOOKUP(E71,$E$7:F65:$F$12,2,0) -> 3.25 | G71: =ROUND(F71*1490000*12,0) -> 58110000 | H71: =ROUND(G71/450*44/52,0) -> 109267 | I71: =ROUND(H71*D71*25/100,0) -> 710236 | J71: =ROUND((D71*H71*1.2)+I71,0) -> 4119366
C72: k) Xác định các phương án chẩn đoán và sửa chữa trong mối quan hệ với đơn đặt hàng của khách hàng | D72: 24 | E72: Hà Quốc Bảo | F72: =VLOOKUP(E72,$E$7:F66:$F$12,2,0) -> 3.25 | G72: =ROUND(F72*1490000*12,0) -> 58110000 | H72: =ROUND(G72/450*44/52,0) -> 109267 | I72: =ROUND(H72*D72*25/100,0) -> 655602 | J72: =ROUND((D72*H72*1.2)+I72,0) -> 3802492
C73: I) Kiểm tra, đánh giá và tham khảo ý kiến khách hàng về các hệ thống tiện nghi, hệ thống an toàn và hệ thống hỗ trợ lái, lập hồ sơ kết quả kiểm tra | D73: 24 | E73: Hà Quốc Bảo | F73: =VLOOKUP(E73,$E$7:F67:$F$12,2,0) -> 3.25 | G73: =ROUND(F73*1490000*12,0) -> 58110000 | H73: =ROUND(G73/450*44/52,0) -> 109267 | I73: =ROUND(H73*D73*25/100,0) -> 655602 | J73: =ROUND((D73*H73*1.2)+I73,0) -> 3802492
A74: 22 | B74: TT6 | C74: Tháo, sửa chữa và lắp các chi tiết, cụm chi tiết và các hệ thống của xe | D74: 502 | G74: =ROUND(F74*1490000*12,0) -> 0 | H74: =ROUND(G74/450*44/52,0) -> 0 | I74: =ROUND(H74*D74*25/100,0) -> 0 | J74: =ROUND((D74*H74*1.2)+I74,0) -> 0
C75: a) Cho ngừng hoạt động, tháo rời các chi tiết, cụm chi tiết và hệ thống của xe; nhận diện các vật liệu nguy hiểm đối với sức khỏe và an toàn lao động; kiểm tra, đánh dấu chi tiết có khả năng tái sử dụng và sắp xếp một cách có hệ thống | D75: 50 | E75: Triệu Phú Nguyên | F75: =VLOOKUP(E75,$E$7:F69:$F$12,2,0) -> 4.03 | G75: =ROUND(F75*1490000*12,0) -> 72056400 | H75: =ROUND(G75/450*44/52,0) -> 135491 | I75: =ROUND(H75*D75*25/100,0) -> 1693638 | J75: =ROUND((D75*H75*1.2)+I75,0) -> 9823098
C76: b) Phân loại các chi tiết, cụm chi tiết và các hệ thống và kiểm tra sự đồng bộ của chúng | D76: 16 | E76: Triệu Phú Nguyên | F76: =VLOOKUP(E76,$E$7:F70:$F$12,2,0) -> 4.03 | G76: =ROUND(F76*1490000*12,0) -> 72056400 | H76: =ROUND(G76/450*44/52,0) -> 135491 | I76: =ROUND(H76*D76*25/100,0) -> 541964 | J76: =ROUND((D76*H76*1.2)+I76,0) -> 3143391
C77: c) Làm sạch, đóng gói và lưu kho các chi tiết và cụm chi tiết | D77: 24 | E77: Triệu Phú Nguyên | F77: =VLOOKUP(E77,$E$7:F71:$F$12,2,0) -> 4.03 | G77: =ROUND(F77*1490000*12,0) -> 72056400 | H77: =ROUND(G77/450*44/52,0) -> 135491 | I77: =ROUND(H77*D77*25/100,0) -> 812946 | J77: =ROUND((D77*H77*1.2)+I77,0) -> 4715087
C78: d) Lắp ráp các chi tiết, cụm chi tiết và hệ thống của xe, đặc biệt chú ý khi lắp các mối ghép ren về trình tự lắp và cân lực khi lắp | D78: 21 | E78: Triệu Phú Nguyên | F78: =VLOOKUP(E78,$E$7:F72:$F$12,2,0) -> 4.03 | G78: =ROUND(F78*1490000*12,0) -> 72056400 | H78: =ROUND(G78/450*44/52,0) -> 135491 | I78: =ROUND(H78*D78*25/100,0) -> 711328 | J78: =ROUND((D78*H78*1.2)+I78,0) -> 4125701
C79: e) Lắp hoàn chỉnh, chạy thử cũng như kiểm tra chức năng và độ chính xác về hình dạng của các chi tiết, cụm chi tiết và các hệ thống | D79: 48 | E79: Triệu Phú Nguyên | F79: =VLOOKUP(E79,$E$7:F73:$F$12,2,0) -> 4.03 | G79: =ROUND(F79*1490000*12,0) -> 72056400 | H79: =ROUND(G79/450*44/52,0) -> 135491 | I79: =ROUND(H79*D79*25/100,0) -> 1625892 | J79: =ROUND((D79*H79*1.2)+I79,0) -> 9430174
C80: f) Chuẩn bị bề mặt để chổng rỉ, bổ sung, làm mới lớp chống rỉ | D80: 40 | E80: Triệu Phú Nguyên | F80: =VLOOKUP(E80,$E$7:F74:$F$12,2,0) -> 4.03 | G80: =ROUND(F80*1490000*12,0) -> 72056400 | H80: =ROUND(G80/450*44/52,0) -> 135491 | I80: =ROUND(H80*D80*25/100,0) -> 1354910 | J80: =ROUND((D80*H80*1.2)+I80,0) -> 7858478
C81: g) Kiểm tra vị trí của các chi tiết, cụm chi tiết, đo độ sai lệch vị trí | D81: 16 | E81: Triệu Phú Nguyên | F81: =VLOOKUP(E81,$E$7:F75:$F$12,2,0) -> 4.03 | G81: =ROUND(F81*1490000*12,0) -> 72056400 | H81: =ROUND(G81/450*44/52,0) -> 135491 | I81: =ROUND(H81*D81*25/100,0) -> 541964 | J81: =ROUND((D81*H81*1.2)+I81,0) -> 3143391
C82: h) Vạch dấu, đánh dấu đường chuẩn, tâm lỗ và đường biên có chú ý đến tính chất vật liệu; cắt và biến dạng chi tiết, bán thành phẩm. | D82: 41 | E82: Triệu Phú Nguyên | F82: =VLOOKUP(E82,$E$7:F76:$F$12,2,0) -> 4.03 | G82: =ROUND(F82*1490000*12,0) -> 72056400 | H82: =ROUND(G82/450*44/52,0) -> 135491 | I82: =ROUND(H82*D82*25/100,0) -> 1388783 | J82: =ROUND((D82*H82*1.2)+I82,0) -> 8054940
C83: i) Xác định và điều chỉnh các thông số gia công của máy khoan cố định và máy khoan cầm tay; khoan và khoét lỗ trên các chi tiết gia công và chi tiết máy. | D83: 40 | E83: Triệu Phú Nguyên | F83: =VLOOKUP(E83,$E$7:F77:$F$12,2,0) -> 4.03 | G83: =ROUND(F83*1490000*12,0) -> 72056400 | H83: =ROUND(G83/450*44/52,0) -> 135491 | I83: =ROUND(H83*D83*25/100,0) -> 1354910 | J83: =ROUND((D83*H83*1.2)+I83,0) -> 7858478
C84: j) Chế tạo và bảo trì ren trong và ren ngoài | D84: 16 | E84: Triệu Phú Nguyên | F84: =VLOOKUP(E84,$E$7:F78:$F$12,2,0) -> 4.03 | G84: =ROUND(F84*1490000*12,0) -> 72056400 | H84: =ROUND(G84/450*44/52,0) -> 135491 | I84: =ROUND(H84*D84*25/100,0) -> 541964 | J84: =ROUND((D84*H84*1.2)+I84,0) -> 3143391
C85: k) Chế tạo, kiểm tra, bảo trì và lập hồ sơ cho các mối nối và cụm kết nối điện | D85: 8 | E85: Triệu Phú Nguyên | F85: =VLOOKUP(E85,$E$7:F79:$F$12,2,0) -> 4.03 | G85: =ROUND(F85*1490000*12,0) -> 72056400 | H85: =ROUND(G85/450*44/52,0) -> 135491 | I85: =ROUND(H85*D85*25/100,0) -> 270982 | J85: =ROUND((D85*H85*1.2)+I85,0) -> 1571696
C86: l) Bảo trì các cụm chi tiết và hệ thống dễ bị mài mòn, đặc biệt hệ thống phanh | D86: 40 | E86: Triệu Phú Nguyên | F86: =VLOOKUP(E86,$E$7:F80:$F$12,2,0) -> 4.03 | G86: =ROUND(F86*1490000*12,0) -> 72056400 | H86: =ROUND(G86/450*44/52,0) -> 135491 | I86: =ROUND(H86*D86*25/100,0) -> 1354910 | J86: =ROUND((D86*H86*1.2)+I86,0) -> 7858478
... C91: q) Tôn trọng các quy tắc an toàn lao động về điện trên các hệ thống điện, đặcbiệt trên hệ thống cao áp và pin nhiên liệu | D91: 24 | E91: Triệu Phú Nguyên | F91: =VLOOKUP(E91,$E$7:F85:$F$12,2,0) -> 4.03 | G91: =ROUND(F91*1490000*12,0) -> 72056400 | H91: =ROUND(G91/450*44/52,0) -> 135491 | I91: =ROUND(H91*D91*25/100,0) -> 812946 | J91: =ROUND((D91*H91*1.2)+I91,0) -> 4715087
A92: 23 | B92: TT7 | C92: Thực hiện khám xe theo quy định của pháp luật | D92: 122 | G92: =ROUND(F92*1490000*12,0) -> 0 | H92: =ROUND(G92/450*44/52,0) -> 0 | I92: =ROUND(H92*D92*25/100,0) -> 0 | J92: =ROUND((D92*H92*1.2)+I92,0) -> 0
C93: a) Chuẩn bị xe cho việc kiểm định theo quy định của pháp luật | D93: 32 | E93: Nguyễn Hữu Mạnh | F93: =VLOOKUP(E93,$E$7:F87:$F$12,2,0) -> 4.38 | G93: =ROUND(F93*1490000*12,0) -> 78314400 | H93: =ROUND(G93/450*44/52,0) -> 147258 | I93: =ROUND(H93*D93*25/100,0) -> 1178064 | J93: =ROUND((D93*H93*1.2)+I93,0) -> 6832771
C94: b) Kiểm tra độ an toàn vận hành và an toàn giao thông của xe, lập hồ sơ các khiếm khuyết và đưa ra các biện pháp khắc phục | D94: 45 | E94: Nguyễn Hữu Mạnh | F94: =VLOOKUP(E94,$E$7:F88:$F$12,2,0) -> 4.38 | G94: =ROUND(F94*1490000*12,0) -> 78314400 | H94: =ROUND(G94/450*44/52,0) -> 147258 | I94: =ROUND(H94*D94*25/100,0) -> 1656653 | J94: =ROUND((D94*H94*1.2)+I94,0) -> 9608585
C95: c) Xác định các trị số tiêu chuẩn và các trị số tức thời bằng hệ thống chẩn đoán, chọn trị số điều chỉnh, thực hiện việc điều chỉnh và lập biên bản kết quả | D95: 45 | E95: Nguyễn Hữu Mạnh | F95: =VLOOKUP(E95,$E$7:F89:$F$12,2,0) -> 4.38 | G95: =ROUND(F95*1490000*12,0) -> 78314400 | H95: =ROUND(G95/450*44/52,0) -> 147258 | I95: =ROUND(H95*D95*25/100,0) -> 1656653 | J95: =ROUND((D95*H95*1.2)+I95,0) -> 9608585
A96: 24 | B96: TT8 | C96: Trang bị, cải hoán và nâng cấp bánh xe, khung sườn cũng như thân vỏ của chủng loại xe | D96: 127 | E96: Nguyễn Hữu Mạnh | F96: =VLOOKUP(E96,$E$7:F90:$F$12,2,0) -> 4.38 | G96: =ROUND(F96*1490000*12,0) -> 78314400 | H96: =ROUND(G96/450*44/52,0) -> 147258 | I96: =ROUND(H96*D96*25/100,0) -> 4675442 | J96: =ROUND((D96*H96*1.2)+I96,0) -> 27117561
C97: a) Xác định bánh xe, khung sườn cũng như thân vỏ của chủng loại xe | D97: 45 | E97: Nguyễn Hữu Mạnh | F97: =VLOOKUP(E97,$E$7:F91:$F$12,2,0) -> 4.38 | G97: =ROUND(F97*1490000*12,0) -> 78314400 | H97: =ROUND(G97/450*44/52,0) -> 147258 | I97: =ROUND(H97*D97*25/100,0) -> 1656653 | J97: =ROUND((D97*H97*1.2)+I97,0) -> 9608585
C98: b) Bố trí, lắp đặt, thay thế phụ tùng, trang bị bổ sung và các thiết bị đặc biệt theo quy định của pháp luật và tài liệu kỹ thuật; kiểm tra chức năng cũng như lập biên bản về sự thay đổi | D98: 34 | E98: Nguyễn Hữu Mạnh | F98: =VLOOKUP(E98,$E$7:F92:$F$12,2,0) -> 4.38 | G98: =ROUND(F98*1490000*12,0) -> 78314400 | H98: =ROUND(G98/450*44/52,0) -> 147258 | I98: =ROUND(H98*D98*25/100,0) -> 1251693 | J98: =ROUND((D98*H98*1.2)+I98,0) -> 7259819
C99: c) Cố định các chi tiết và hệ thống vào khối liên kết của xe | D99: 16 | E99: Nguyễn Hữu Mạnh | F99: =VLOOKUP(E99,$E$7:F93:$F$12,2,0) -> 4.38 | G99: =ROUND(F99*1490000*12,0) -> 78314400 | H99: =ROUND(G99/450*44/52,0) -> 147258 | I99: =ROUND(H99*D99*25/100,0) -> 589032 | J99: =ROUND((D99*H99*1.2)+I99,0) -> 3416386
C100: d) Mã hóa và tham số hóa các thiết bị điều khiển, cập nhật phần mềm ứng dụng, lập hồ sơ về sự thay dổi | D100: 16 | E100: Nguyễn Hữu Mạnh | F100: =VLOOKUP(E100,$E$7:F94:$F$12,2,0) -> 4.38 | G100: =ROUND(F100*1490000*12,0) -> 78314400 | H100: =ROUND(G100/450*44/52,0) -> 147258 | I100: =ROUND(H100*D100*25/100,0) -> 589032 | J100: =ROUND((D100*H100*1.2)+I100,0) -> 3416386
C101: e) Hướng dẫn khách hàng trong việc sử dụng thiết bị và hướng dẫn về những điều pháp luật cho phép | D101: 16 | E101: Nguyễn Hữu Mạnh | F101: =VLOOKUP(E101,$E$7:F95:$F$12,2,0) -> 4.38 | G101: =ROUND(F101*1490000*12,0) -> 78314400 | H101: =ROUND(G101/450*44/52,0) -> 147258 | I101: =ROUND(H101*D101*25/100,0) -> 589032 | J101: =ROUND((D101*H101*1.2)+I101,0) -> 3416386
A102: 25 | B102: TT9 | C102: Ngừng và đưa vào hoạt động các hệ thống kỹ thuật của xe | D102: 82 | E102: Hà Quốc Bảo | F102: =VLOOKUP(E102,$E$7:F96:$F$12,2,0) -> 3.25 | G102: =ROUND(F102*1490000*12,0) -> 58110000 | H102: =ROUND(G102/450*44/52,0) -> 109267 | I102: =ROUND(H102*D102*25/100,0) -> 2239974 | J102: =ROUND((D102*H102*1.2)+I102,0) -> 12991847
A103: 26 | B103: TT10 | C103: Chẩn đoán lỗi và các sự cố trên xe và trên các hệ thống của xe | D103: 614 | G103: =ROUND(F103*1490000*12,0) -> 0 | H103: =ROUND(G103/450*44/52,0) -> 0 | I103: =ROUND(H103*D103*25/100,0) -> 0 | J103: =ROUND((D103*H103*1.2)+I103,0) -> 0
C104: a) Xác định các phương án chẩn đoán và sửa chữa | D104: 48 | E104: Nguyễn Anh Tuấn | F104: =VLOOKUP(E104,$E$7:F98:$F$12,2,0) -> 5.02 | G104: =ROUND(F104*1490000*12,0) -> 89757600 | H104: =ROUND(G104/450*44/52,0) -> 168775 | I104: =ROUND(H104*D104*25/100,0) -> 2025300 | J104: =ROUND((D104*H104*1.2)+I104,0) -> 11746740
C105: b) Xác định nguyên nhân của các nhiễu loạn chức năng trên các hệ thống dẫn động, khung sườn xe, hệ thống tiện nghi và hệ thống an toàn với sự hỗ trợ của hệ thống chẩn đoán | D105: 58 | E105: Hà Quốc Bảo | F105: =VLOOKUP(E105,$E$7:F99:$F$12,2,0) -> 3.25 | G105: =ROUND(F105*1490000*12,0) -> 58110000 | H105: =ROUND(G105/450*44/52,0) -> 109267 | I105: =ROUND(H105*D105*25/100,0) -> 1584372 | J105: =ROUND((D105*H105*1.2)+I105,0) -> 9189355
...

Sheet PL2.2. Trich nop luong GV 
B1: Phụ lục 2:
B2: Phụ lục 2.2:
B3: CÁC KHOẢN TRÍCH NỘP THEO LƯƠNG CỦA GIẢNG VIÊN THAM GIA GIẢNG DẠY
A5: TT | B5: Mã MH | C5: Tên môn học/học phần | D5: Số giờ giảng dạy | E5: Tên giảng viên | F5: Tổng lương trong năm | G5: Đơn giá (đồng/giờ) | H5: Các khoản trích nộp theo lương
H6: BHXH 17,5% | I6: BHYT 3% | J6: BHTN 1% | K6: KPCĐ 2% | L6: Thành tiền
A7: (1) | B7: (2) | C7: (3) | D7: (4) | E7: (5) | F7: -6 | G7: -7 | H7: (8) | I7: (9) | J7: (10) | K7: -11 | L7: (12)=8+9 +10+11
A8: 1 | B8: KTH | C8: Kinh tế học và xã hội học | D8: 190 | E8: Nguyễn Trọng Nghĩa | F8: 95479200 | G8: =ROUND(F8/450*44/52,0) -> 179534 | H8: =ROUND(G8*D8*17.5/100,0) -> 5969506 | I8: =ROUND(G8*D8*3/100,0) -> 1023344 | J8: =ROUND(G8*D8*1/100,0) -> 341115 | K8: =ROUND(G8*D8*2/100,0) -> 682229 | L8: =SUM(H8:K8) -> 8016194
A9: 2 | B9: CT | C9: Chính trị | D9: 90 | E9: Lê thị Hồng Vân | F9: 79566000 | G9: =ROUND(F9/450*44/52,0) -> 149611 | H9: =ROUND(G9*D9*17.5/100,0) -> 2356373 | I9: =ROUND(G9*D9*3/100,0) -> 403950 | J9: =ROUND(G9*D9*1/100,0) -> 134650 | K9: =ROUND(G9*D9*2/100,0) -> 269300 | L9: =SUM(H9:K9) -> 3164273
A10: 3 | B10: HP1 | C10: Kiểm tra bảo dưỡng hệ thống và xe theo thông số yêu cầu | D10: 80 | E10: Nguyễn Anh Tuấn | F10: 89757600 | G10: =ROUND(F10/450*44/52,0) -> 168775 | H10: =ROUND(G10*D10*17.5/100,0) -> 2362850 | I10: =ROUND(G10*D10*3/100,0) -> 405060 | J10: =ROUND(G10*D10*1/100,0) -> 135020 | K10: =ROUND(G10*D10*2/100,0) -> 270040 | L10: =SUM(H10:K10) -> 3172970
A11: 4 | B11: HP2 | C11: Kiểm tra, tháo, đổi và lắp ráp hệ thống và cụm chi tiết đơn giản | D11: 100 | E11: Triệu Phú Nguyên | F11: 72056400 | G11: =ROUND(F11/450*44/52,0) -> 135491 | H11: =ROUND(G11*D11*17.5/100,0) -> 2371093 | I11: =ROUND(G11*D11*3/100,0) -> 406473 | J11: =ROUND(G11*D11*1/100,0) -> 135491 | K11: =ROUND(G11*D11*2/100,0) -> 270982 | L11: =SUM(H11:K11) -> 3184039
A12: 5 | B12: HP3 | C12: Xác định và khắc phục sự cố | D12: 100 | E12: Hà Quốc Bảo | F12: 58110000 | G12: =ROUND(F12/450*44/52,0) -> 109267 | H12: =ROUND(G12*D12*17.5/100,0) -> 1912173 | I12: =ROUND(G12*D12*3/100,0) -> 327801 | J12: =ROUND(G12*D12*1/100,0) -> 109267 | K12: =ROUND(G12*D12*2/100,0) -> 218534 | L12: =SUM(H12:K12) -> 2567775
A13: 6 | B13: HP4 | C13: Thực hiện công việc chuyển đổi theo yêu cầu của khách hàng | D13: 40 | E13: Nguyễn Hữu Mạnh | F13: 78314400 | G13: =ROUND(F13/450*44/52,0) -> 147258 | H13: =ROUND(G13*D13*17.5/100,0) -> 1030806 | I13: =ROUND(G13*D13*3/100,0) -> 176710 | J13: =ROUND(G13*D13*1/100,0) -> 58903 | K13: =ROUND(G13*D13*2/100,0) -> 117806 | L13: =SUM(H13:K13) -> 1384225
A14: 7 | B14: HP5 | C14: Kiểm tra và thực hiện công việc bổ sung | D14: 60 | E14: Triệu Phú Nguyên | F14: =VLOOKUP(E14,$E$8:$F$13,2,0) -> 72056400 | G14: =ROUND(F14/450*44/52,0) -> 135491 | H14: =ROUND(G14*D14*17.5/100,0) -> 1422656 | I14: =ROUND(G14*D14*3/100,0) -> 243884 | J14: =ROUND(G14*D14*1/100,0) -> 81295 | K14: =ROUND(G14*D14*2/100,0) -> 162589 | L14: =SUM(H14:K14) -> 1910424
A15: 8 | B15: HP6 | C15: Chẩn đoán và khắc phục những sự cố chức năng trong các hệ thống điện, nạp điện và khởi động | D15: 80 | E15: Hà Quốc Bảo | F15: =VLOOKUP(E15,$E$8:$F$13,2,0) -> 58110000 | G15: =ROUND(F15/450*44/52,0) -> 109267 | H15: =ROUND(G15*D15*17.5/100,0) -> 1529738 | I15: =ROUND(G15*D15*3/100,0) -> 262241 | J15: =ROUND(G15*D15*1/100,0) -> 87414 | K15: =ROUND(G15*D15*2/100,0) -> 174827 | L15: =SUM(H15:K15) -> 2054220
A16: 9 | B16: HP7 | C16: Sửa chữa cụm chi tiết và hệ thống chống ăn mòn | D16: 60 | E16: Nguyễn Hữu Mạnh | F16: =VLOOKUP(E16,$E$8:$F$13,2,0) -> 78314400 | G16: =ROUND(F16/450*44/52,0) -> 147258 | H16: =ROUND(G16*D16*17.5/100,0) -> 1546209 | I16: =ROUND(G16*D16*3/100,0) -> 265064 | J16: =ROUND(G16*D16*1/100,0) -> 88355 | K16: =ROUND(G16*D16*2/100,0) -> 176710 | L16: =SUM(H16:K16) -> 2076338
A17: 10 | B17: HP8 | C17: Chẩn đoán hệ thống cơ điện tử của bộ dẫn động | D17: 80 | E17: Nguyễn Anh Tuấn | F17: =VLOOKUP(E17,$E$8:$F$13,2,0) -> 89757600 | G17: =ROUND(F17/450*44/52,0) -> 168775 | H17: =ROUND(G17*D17*17.5/100,0) -> 2362850 | I17: =ROUND(G17*D17*3/100,0) -> 405060 | J17: =ROUND(G17*D17*1/100,0) -> 135020 | K17: =ROUND(G17*D17*2/100,0) -> 270040 | L17: =SUM(H17:K17) -> 3172970
A18: 11 | B18: HP9 | C18: Thực hiện nhiệm vụ dịch vụ trên hệ thống tiện nghi và hệ thống an toàn | D18: 80 | E18: Hà Quốc Bảo | F18: =VLOOKUP(E18,$E$8:$F$13,2,0) -> 58110000 | G18: =ROUND(F18/450*44/52,0) -> 109267 | H18: =ROUND(G18*D18*17.5/100,0) -> 1529738 | I18: =ROUND(G18*D18*3/100,0) -> 262241 | J18: =ROUND(G18*D18*1/100,0) -> 87414 | K18: =ROUND(G18*D18*2/100,0) -> 174827 | L18: =SUM(H18:K18) -> 2054220
A19: 12 | B19: HP10 | C19: Sửa chữa hỏng hóc cho hệ thống khung gầm và hệ thống phanh | D19: 80 | E19: Nguyễn Hữu Mạnh | F19: =VLOOKUP(E19,$E$8:$F$13,2,0) -> 78314400 | G19: =ROUND(F19/450*44/52,0) -> 147258 | H19: =ROUND(G19*D19*17.5/100,0) -> 2061612 | I19: =ROUND(G19*D19*3/100,0) -> 353419 | J19: =ROUND(G19*D19*1/100,0) -> 117806 | K19: =ROUND(G19*D19*2/100,0) -> 235613 | L19: =SUM(H19:K19) -> 2768450
A20: 13 | B20: HP11P | C20: Mạng hóa hệ thống dẫn động và hệ thống an toàn được chẩn đoán và sửa chữa | D20: 80 | E20: Nguyễn Anh Tuấn | F20: =VLOOKUP(E20,$E$8:$F$13,2,0) -> 89757600 | G20: =ROUND(F20/450*44/52,0) -> 168775 | H20: =ROUND(G20*D20*17.5/100,0) -> 2362850 | I20: =ROUND(G20*D20*3/100,0) -> 405060 | J20: =ROUND(G20*D20*1/100,0) -> 135020 | K20: =ROUND(G20*D20*2/100,0) -> 270040 | L20: =SUM(H20:K20) -> 3172970
A21: 14 | B21: HP12P | C21: Chuẩn bị phương tiện xe để kiểm tra an toàn và kiểm định | D21: 40 | E21: Triệu Phú Nguyên | F21: =VLOOKUP(E21,$E$8:$F$13,2,0) -> 72056400 | G21: =ROUND(F21/450*44/52,0) -> 135491 | H21: =ROUND(G21*D21*17.5/100,0) -> 948437 | I21: =ROUND(G21*D21*3/100,0) -> 162589 | J21: =ROUND(G21*D21*1/100,0) -> 54196 | K21: =ROUND(G21*D21*2/100,0) -> 108393 | L21: =SUM(H21:K21) -> 1273615
A22: 15 | B22: HP13P | C22: Sửa các chi tiết bộ dẫn động | D22: 80 | E22: Nguyễn Hữu Mạnh | F22: =VLOOKUP(E22,$E$8:$F$13,2,0) -> 78314400 | G22: =ROUND(F22/450*44/52,0) -> 147258 | H22: =ROUND(G22*D22*17.5/100,0) -> 2061612 | I22: =ROUND(G22*D22*3/100,0) -> 353419 | J22: =ROUND(G22*D22*1/100,0) -> 117806 | K22: =ROUND(G22*D22*2/100,0) -> 235613 | L22: =SUM(H22:K22) -> 2768450
A23: 16 | B23: HP14P | C23: Trang bị, hoán cải và nâng cấp các hệ thống và thành phần | D23: 80 | E23: Nguyễn Anh Tuấn | F23: =VLOOKUP(E23,$E$8:$F$13,2,0) -> 89757600 | G23: =ROUND(F23/450*44/52,0) -> 168775 | H23: =ROUND(G23*D23*17.5/100,0) -> 2362850 | I23: =ROUND(G23*D23*3/100,0) -> 405060 | J23: =ROUND(G23*D23*1/100,0) -> 135020 | K23: =ROUND(G23*D23*2/100,0) -> 270040 | L23: =SUM(H23:K23) -> 3172970
A24: 17 | B24: TT1 | C24: Vận hành xe và các hệ thống của xe | D24: 112 | G24: =ROUND(F24/450*44/52,0) -> 0 | H24: =ROUND(G24*D24*17.5/100,0) -> 0 | I24: =ROUND(G24*D24*3/100,0) -> 0 | J24: =ROUND(G24*D24*1/100,0) -> 0 | K24: =ROUND(G24*D24*2/100,0) -> 0 | L24: =SUM(H24:K24) -> 0
C25: a) Tôn trọng và vận dụng các quy định và hướng dẫn về an toàn và về vận hành xe | D25: 16 | E25: Triệu Phú Nguyên | F25: =VLOOKUP(E25,$E$8:$F$13,2,0) -> 72056400 | G25: =ROUND(F25/450*44/52,0) -> 135491 | H25: =ROUND(G25*D25*17.5/100,0) -> 379375 | I25: =ROUND(G25*D25*3/100,0) -> 65036 | J25: =ROUND(G25*D25*1/100,0) -> 21679 | K25: =ROUND(G25*D25*2/100,0) -> 43357 | L25: =SUM(H25:K25) -> 509447
C26: b) Vận dụng và giải thích các văn bản hướng dẫn về vận hành xe | D26: 32 | E26: Triệu Phú Nguyên | F26: =VLOOKUP(E26,$E$8:$F$13,2,0) -> 72056400 | G26: =ROUND(F26/450*44/52,0) -> 135491 | H26: =ROUND(G26*D26*17.5/100,0) -> 758750 | I26: =ROUND(G26*D26*3/100,0) -> 130071 | J26: =ROUND(G26*D26*1/100,0) -> 43357 | K26: =ROUND(G26*D26*2/100,0) -> 86714 | L26: =SUM(H26:K26) -> 1018892
C27: c) Thao tác các phần tử vận hành xe, các trang thiết bị vận hành và các hệ thống trên xe cũng như thiết bị bảo vệ của chúng | D27: 32 | E27: Triệu Phú Nguyên | F27: =VLOOKUP(E27,$E$8:$F$13,2,0) -> 72056400 | G27: =ROUND(F27/450*44/52,0) -> 135491 | H27: =ROUND(G27*D27*17.5/100,0) -> 758750 | I27: =ROUND(G27*D27*3/100,0) -> 130071 | J27: =ROUND(G27*D27*1/100,0) -> 43357 | K27: =ROUND(G27*D27*2/100,0) -> 86714 | L27: =SUM(H27:K27) -> 1018892
C28: d) Vận dụng thực đơn chức năng, vận hành các hệ thống thông tin, giao tiếp và hệ thống an toàn | D28: 32 | E28: Triệu Phú Nguyên | F28: =VLOOKUP(E28,$E$8:$F$13,2,0) -> 72056400 | G28: =ROUND(F28/450*44/52,0) -> 135491 | H28: =ROUND(G28*D28*17.5/100,0) -> 758750 | I28: =ROUND(G28*D28*3/100,0) -> 130071 | J28: =ROUND(G28*D28*1/100,0) -> 43357 | K28: =ROUND(G28*D28*2/100,0) -> 86714 | L28: =SUM(H28:K28) -> 1018892
A29: 18 | B29: TT2 | C29: Ngừng và đưa vào hoạt động các hệ thống kỹ thuật của xe | D29: 108 | G29: =ROUND(F29/450*44/52,0) -> 0 | H29: =ROUND(G29*D29*17.5/100,0) -> 0 | I29: =ROUND(G29*D29*3/100,0) -> 0 | J29: =ROUND(G29*D29*1/100,0) -> 0 | K29: =ROUND(G29*D29*2/100,0) -> 0 | L29: =SUM(H29:K29) -> 0
C30: a) Vận dụng các qui tắc của nhà chế tạo, các quy định an toàn và biện pháp bảo vệ, đặc biệt các tiêu chuẩn và các quy định khi làm các công việc về điện trên xe cao áp cũng như các quy định phòng chống tai nạn và quy tắc kỹ thuật. | D30: 19 | E30: Nguyễn Anh Tuấn | F30: =VLOOKUP(E30,$E$8:$F$13,2,0) -> 89757600 | G30: =ROUND(F30/450*44/52,0) -> 168775 | H30: =ROUND(G30*D30*17.5/100,0) -> 561177 | I30: =ROUND(G30*D30*3/100,0) -> 96202 | J30: =ROUND(G30*D30*1/100,0) -> 32067 | K30: =ROUND(G30*D30*2/100,0) -> 64135 | L30: =SUM(H30:K30) -> 753581
C31: b) Nhận biết các nguy cơ cao tiềm ẩn trên xe cơ giới | D31: 8 | E31: Nguyễn Anh Tuấn | F31: =VLOOKUP(E31,$E$8:$F$13,2,0) -> 89757600 | G31: =ROUND(F31/450*44/52,0) -> 168775 | H31: =ROUND(G31*D31*17.5/100,0) -> 236285 | I31: =ROUND(G31*D31*3/100,0) -> 40506 | J31: =ROUND(G31*D31*1/100,0) -> 13502 | K31: =ROUND(G31*D31*2/100,0) -> 27004 | L31: =SUM(H31:K31) -> 317297
C32: c) Tôn trọng các quy định an toàn đối với hệ thống cao áp và bảo vệ không gian làm việc | D32: 8 | E32: Nguyễn Anh Tuấn | F32: =VLOOKUP(E32,$E$8:$F$13,2,0) -> 89757600 | G32: =ROUND(F32/450*44/52,0) -> 168775 | H32: =ROUND(G32*D32*17.5/100,0) -> 236285 | I32: =ROUND(G32*D32*3/100,0) -> 40506 | J32: =ROUND(G32*D32*1/100,0) -> 13502 | K32: =ROUND(G32*D32*2/100,0) -> 27004 | L32: =SUM(H32:K32) -> 317297
C33: d) Ngắt hoàn toàn điện áp trên các hệ thống theo quy định, đảm bảo chống tự đóng điện, xác định được tình trạng không còn điện thế trong cáchệ thống của xe | D33: 16 | E33: Nguyễn Anh Tuấn | F33: =VLOOKUP(E33,$E$8:$F$13,2,0) -> 89757600 | G33: =ROUND(F33/450*44/52,0) -> 168775 | H33: =ROUND(G33*D33*17.5/100,0) -> 472570 | I33: =ROUND(G33*D33*3/100,0) -> 81012 | J33: =ROUND(G33*D33*1/100,0) -> 27004 | K33: =ROUND(G33*D33*2/100,0) -> 54008 | L33: =SUM(H33:K33) -> 634594
C34: e) Kiểm tra chức năng và lập hồ sơ kết quả kiểm tra | D34: 8 | E34: Nguyễn Anh Tuấn | F34: =VLOOKUP(E34,$E$8:$F$13,2,0) -> 89757600 | G34: =ROUND(F34/450*44/52,0) -> 168775 | H34: =ROUND(G34*D34*17.5/100,0) -> 236285 | I34: =ROUND(G34*D34*3/100,0) -> 40506 | J34: =ROUND(G34*D34*1/100,0) -> 13502 | K34: =ROUND(G34*D34*2/100,0) -> 27004 | L34: =SUM(H34:K34) -> 317297
C35: f) Đánh giá và phân tích nguy cơ mất an toàn điện | D35: 8 | E35: Nguyễn Anh Tuấn | F35: =VLOOKUP(E35,$E$8:$F$13,2,0) -> 89757600 | G35: =ROUND(F35/450*44/52,0) -> 168775 | H35: =ROUND(G35*D35*17.5/100,0) -> 236285 | I35: =ROUND(G35*D35*3/100,0) -> 40506 | J35: =ROUND(G35*D35*1/100,0) -> 13502 | K35: =ROUND(G35*D35*2/100,0) -> 27004 | L35: =SUM(H35:K35) -> 317297
C36: g) Đưa các hệ thống kỹ thuật của xe vào trạng thái hoạt động an toàn khi sửa chữa, bảo dưỡng; đặc biệt chú ý các vật liệu dễ gây cháy nổ, nhiên liệu, khí hóa lỏng, các chất lỏng, cũng như điện áp | D36: 41 | E36: Nguyễn Anh Tuấn | F36: =VLOOKUP(E36,$E$8:$F$13,2,0) -> 89757600 | G36: =ROUND(F36/450*44/52,0) -> 168775 | H36: =ROUND(G36*D36*17.5/100,0) -> 1210961 | I36: =ROUND(G36*D36*3/100,0) -> 207593 | J36: =ROUND(G36*D36*1/100,0) -> 69198 | K36: =ROUND(G36*D36*2/100,0) -> 138396 | L36: =SUM(H36:K36) -> 1626148
A37: 19 | B37: TT3 | C37: Đo và kiểm tra trên các hệ thống của xe | D37: 153 | G37: =ROUND(F37/450*44/52,0) -> 0 | H37: =ROUND(G37*D37*17.5/100,0) -> 0 | I37: =ROUND(G37*D37*3/100,0) -> 0 | J37: =ROUND(G37*D37*1/100,0) -> 0 | K37: =ROUND(G37*D37*2/100,0) -> 0 | L37: =SUM(H37:K37) -> 0
C38: a) Xác định các cơ sở dữ liệu tiêu chuẩn, lựa chọn phương pháp và dụng cụ đo | D38: 16 | E38: Hà Quốc Bảo | F38: =VLOOKUP(E38,$E$8:$F$13,2,0) -> 58110000 | G38: =ROUND(F38/450*44/52,0) -> 109267 | H38: =ROUND(G38*D38*17.5/100,0) -> 305948 | I38: =ROUND(G38*D38*3/100,0) -> 52448 | J38: =ROUND(G38*D38*1/100,0) -> 17483 | K38: =ROUND(G38*D38*2/100,0) -> 34965 | L38: =SUM(H38:K38) -> 410844
C39: b) Áp dụng các biện pháp bảo vệ chống dòng điện chạy qua người và hồ quang nhiễu | D39: 8 | E39: Hà Quốc Bảo | F39: =VLOOKUP(E39,$E$8:$F$13,2,0) -> 58110000 | G39: =ROUND(F39/450*44/52,0) -> 109267 | H39: =ROUND(G39*D39*17.5/100,0) -> 152974 | I39: =ROUND(G39*D39*3/100,0) -> 26224 | J39: =ROUND(G39*D39*1/100,0) -> 8741 | K39: =ROUND(G39*D39*2/100,0) -> 17483 | L39: =SUM(H39:K39) -> 205422
C40: c) Ghi nhận trị số đo được và so sánh với trị số tiêu chuẩn; đặc biệt cần đo, kiểm tra và đánh giá các thông số và tín hiệu điện, điện tử của các chi tiết, các cụm chi tiết và các hệ thống của xe | D40: 24 | E40: Hà Quốc Bảo | F40: =VLOOKUP(E40,$E$8:$F$13,2,0) -> 58110000 | G40: =ROUND(F40/450*44/52,0) -> 109267 | H40: =ROUND(G40*D40*17.5/100,0) -> 458921 | I40: =ROUND(G40*D40*3/100,0) -> 78672 | J40: =ROUND(G40*D40*1/100,0) -> 26224 | K40: =ROUND(G40*D40*2/100,0) -> 52448 | L40: =SUM(H40:K40) -> 616265
C41: d) Kiểm tra bằng mắt các hư hỏng cơ học của các mối nối, dây dẫn và và các cụm kết nối điện. | D41: 8 | E41: Hà Quốc Bảo | F41: =VLOOKUP(E41,$E$8:$F$13,2,0) -> 58110000 | G41: =ROUND(F41/450*44/52,0) -> 109267 | H41: =ROUND(G41*D41*17.5/100,0) -> 152974 | I41: =ROUND(G41*D41*3/100,0) -> 26224 | J41: =ROUND(G41*D41*1/100,0) -> 8741 | K41: =ROUND(G41*D41*2/100,0) -> 17483 | L41: =SUM(H41:K41) -> 205422
C42: e) Kiểm tra các chức năng của các chi tiết, dây dẫn và thiết bị bảo vệ | D42: 12 | E42: Hà Quốc Bảo | F42: =VLOOKUP(E42,$E$8:$F$13,2,0) -> 58110000 | G42: =ROUND(F42/450*44/52,0) -> 109267 | H42: =ROUND(G42*D42*17.5/100,0) -> 229461 | I42: =ROUND(G42*D42*3/100,0) -> 39336 | J42: =ROUND(G42*D42*1/100,0) -> 13112 | K42: =ROUND(G42*D42*2/100,0) -> 26224 | L42: =SUM(H42:K42) -> 308133
C43: f) Lựa chọn và sử dụng các dụng cụ đo để đo kiểm chiều dài, đo góc và kiểm tra bề mặt | D43: 8 | E43: Hà Quốc Bảo | F43: =VLOOKUP(E43,$E$8:$F$13,2,0) -> 58110000 | G43: =ROUND(F43/450*44/52,0) -> 109267 | H43: =ROUND(G43*D43*17.5/100,0) -> 152974 | I43: =ROUND(G43*D43*3/100,0) -> 26224 | J43: =ROUND(G43*D43*1/100,0) -> 8741 | K43: =ROUND(G43*D43*2/100,0) -> 17483 | L43: =SUM(H43:K43) -> 205422
C44: g) Đo chiều dài, đặc biệt là đo bằng thước cặp, panme và đồng hồ so; kiểm tra dung sai và các mối ghép | D44: 8 | E44: Hà Quốc Bảo | F44: =VLOOKUP(E44,$E$8:$F$13,2,0) -> 58110000 | G44: =ROUND(F44/450*44/52,0) -> 109267 | H44: =ROUND(G44*D44*17.5/100,0) -> 152974 | I44: =ROUND(G44*D44*3/100,0) -> 26224 | J44: =ROUND(G44*D44*1/100,0) -> 8741 | K44: =ROUND(G44*D44*2/100,0) -> 17483 | L44: =SUM(H44:K44) -> 205422
C45: h) Kiểm tra chi tiết gia công bằng ke góc, dưỡng kiểm giới hạn và dưỡng kiểm ren | D45: 8 | E45: Hà Quốc Bảo | F45: =VLOOKUP(E45,$E$8:$F$13,2,0) -> 58110000 | G45: =ROUND(F45/450*44/52,0) -> 109267 | H45: =ROUND(G45*D45*17.5/100,0) -> 152974 | I45: =ROUND(G45*D45*3/100,0) -> 26224 | J45: =ROUND(G45*D45*1/100,0) -> 8741 | K45: =ROUND(G45*D45*2/100,0) -> 17483 | L45: =SUM(H45:K45) -> 205422
C46: i) Đo và kiểm tra các thông số vật lý, đặc biệt là với các thông số áp suất và nhiệt độ | D46: 12 | E46: Hà Quốc Bảo | F46: =VLOOKUP(E46,$E$8:$F$13,2,0) -> 58110000 | G46: =ROUND(F46/450*44/52,0) -> 109267 | H46: =ROUND(G46*D46*17.5/100,0) -> 229461 | I46: =ROUND(G46*D46*3/100,0) -> 39336 | J46: =ROUND(G46*D46*1/100,0) -> 13112 | K46: =ROUND(G46*D46*2/100,0) -> 26224 | L46: =SUM(H46:K46) -> 308133
C47: j) Lập hồ sơ kết quả kiểm tra | D47: 8 | E47: Hà Quốc Bảo | F47: =VLOOKUP(E47,$E$8:$F$13,2,0) -> 58110000 | G47: =ROUND(F47/450*44/52,0) -> 109267 | H47: =ROUND(G47*D47*17.5/100,0) -> 152974 | I47: =ROUND(G47*D47*3/100,0) -> 26224 | J47: =ROUND(G47*D47*1/100,0) -> 8741 | K47: =ROUND(G47*D47*2/100,0) -> 17483 | L47: =SUM(H47:K47) -> 205422
C48: k) Kiểm tra và đánh giá chức năng của dây bảo vệ và dây đẳng thế | D48: 25 | E48: Hà Quốc Bảo | F48: =VLOOKUP(E48,$E$8:$F$13,2,0) -> 58110000 | G48: =ROUND(F48/450*44/52,0) -> 109267 | H48: =ROUND(G48*D48*17.5/100,0) -> 478043 | I48: =ROUND(G48*D48*3/100,0) -> 81950 | J48: =ROUND(G48*D48*1/100,0) -> 27317 | K48: =ROUND(G48*D48*2/100,0) -> 54634 | L48: =SUM(H48:K48) -> 641944
C49: l) Đo và đánh giá điện trở cách điện | D49: 16 | E49: Hà Quốc Bảo | F49: =VLOOKUP(E49,$E$8:$F$13,2,0) -> 58110000 | G49: =ROUND(F49/450*44/52,0) -> 109267 | H49: =ROUND(G49*D49*17.5/100,0) -> 305948 | I49: =ROUND(G49*D49*3/100,0) -> 52448 | J49: =ROUND(G49*D49*1/100,0) -> 17483 | K49: =ROUND(G49*D49*2/100,0) -> 34965 | L49: =SUM(H49:K49) -> 410844
A50: 20 | B50: TT4 | C50: Thực hiện các công việc dịch vụ và bảo dưỡng | D50: 401 | G50: =ROUND(F50/450*44/52,0) -> 0 | H50: =ROUND(G50*D50*17.5/100,0) -> 0 | I50: =ROUND(G50*D50*3/100,0) -> 0 | J50: =ROUND(G50*D50*1/100,0) -> 0 | K50: =ROUND(G50*D50*2/100,0) -> 0 | L50: =SUM(H50:K50) -> 0
C51: a) Vận dụng các quy tắc an toàn lao động cũng như hướng dẫn của nhà chế tạo khi vận chuyển và nâng hàng | D51: 16 | E51: Nguyễn Hữu Mạnh | F51: =VLOOKUP(E51,$E$8:$F$13,2,0) -> 78314400 | G51: =ROUND(F51/450*44/52,0) -> 147258 | H51: =ROUND(G51*D51*17.5/100,0) -> 412322 | I51: =ROUND(G51*D51*3/100,0) -> 70684 | J51: =ROUND(G51*D51*1/100,0) -> 23561 | K51: =ROUND(G51*D51*2/100,0) -> 47123 | L51: =SUM(H51:K51) -> 553690
C52: b) Di chuyển, sắp đặt, nâng lên, hạ xuống và cố định xe, các cụm chi tiết và các hệ thống của xe | D52: 40 | E52: Nguyễn Hữu Mạnh | F52: =VLOOKUP(E52,$E$8:$F$13,2,0) -> 78314400 | G52: =ROUND(F52/450*44/52,0) -> 147258 | H52: =ROUND(G52*D52*17.5/100,0) -> 1030806 | I52: =ROUND(G52*D52*3/100,0) -> 176710 | J52: =ROUND(G52*D52*1/100,0) -> 58903 | K52: =ROUND(G52*D52*2/100,0) -> 117806 | L52: =SUM(H52:K52) -> 1384225
C53: c) Thực hiện công việc bảo dưỡng theo yêu cầu, đặc biệt là kiểm tra, súc rửa, thay mới dầu nhớt và tham gia xử lý chất thải | D53: 24 | E53: Nguyễn Hữu Mạnh | F53: =VLOOKUP(E53,$E$8:$F$13,2,0) -> 78314400 | G53: =ROUND(F53/450*44/52,0) -> 147258 | H53: =ROUND(G53*D53*17.5/100,0) -> 618484 | I53: =ROUND(G53*D53*3/100,0) -> 106026 | J53: =ROUND(G53*D53*1/100,0) -> 35342 | K53: =ROUND(G53*D53*2/100,0) -> 70684 | L53: =SUM(H53:K53) -> 830536
C54: d) Kiểm tra các chi tiết, cụm chi tiết và hệ thống cơ – điện về các hư hỏng, độ mòn, độ kín không rò, độ chênh vị trí và khả năng hoạt động | D54: 56 | E54: Nguyễn Hữu Mạnh | F54: =VLOOKUP(E54,$E$8:$F$13,2,0) -> 78314400 | G54: =ROUND(F54/450*44/52,0) -> 147258 | H54: =ROUND(G54*D54*17.5/100,0) -> 1443128 | I54: =ROUND(G54*D54*3/100,0) -> 247393 | J54: =ROUND(G54*D54*1/100,0) -> 82464 | K54: =ROUND(G54*D54*2/100,0) -> 164929 | L54: =SUM(H54:K54) -> 1937914
C55: e) Vận dụng sơ đồ mạch và sơ đồ chức năng, kiểm tra các ống dẫn thủy lực, khí nén, dây điện, các cụm kết nối và mối nối cơ khí | D55: 40 | E55: Nguyễn Hữu Mạnh | F55: =VLOOKUP(E55,$E$8:$F$13,2,0) -> 78314400 | G55: =ROUND(F55/450*44/52,0) -> 147258 | H55: =ROUND(G55*D55*17.5/100,0) -> 1030806 | I55: =ROUND(G55*D55*3/100,0) -> 176710 | J55: =ROUND(G55*D55*1/100,0) -> 58903 | K55: =ROUND(G55*D55*2/100,0) -> 117806 | L55: =SUM(H55:K55) -> 1384225
C56: f) Đo và điều chỉnh áp suất tại các hệ thống thủy lực và khí nén | D56: 24 | E56: Nguyễn Hữu Mạnh | F56: =VLOOKUP(E56,$E$8:$F$13,2,0) -> 78314400 | G56: =ROUND(F56/450*44/52,0) -> 147258 | H56: =ROUND(G56*D56*17.5/100,0) -> 618484 | I56: =ROUND(G56*D56*3/100,0) -> 106026 | J56: =ROUND(G56*D56*1/100,0) -> 35342 | K56: =ROUND(G56*D56*2/100,0) -> 70684 | L56: =SUM(H56:K56) -> 830536
C57: g) Vận dụng các hướng dẫn về bảo dưỡng và đo kiểm và thực hiện các công việc bảo dưỡng | D57: 74 | E57: Nguyễn Hữu Mạnh | F57: =VLOOKUP(E57,$E$8:$F$13,2,0) -> 78314400 | G57: =ROUND(F57/450*44/52,0) -> 147258 | H57: =ROUND(G57*D57*17.5/100,0) -> 1906991 | I57: =ROUND(G57*D57*3/100,0) -> 326913 | J57: =ROUND(G57*D57*1/100,0) -> 108971 | K57: =ROUND(G57*D57*2/100,0) -> 217942 | L57: =SUM(H57:K57) -> 2560817
C58: h) Thực hiện kiểm tra chức năng và đọc kết quả từ bộ nhớ lỗi chức năng | D58: 24 | E58: Nguyễn Hữu Mạnh | F58: =VLOOKUP(E58,$E$8:$F$13,2,0) -> 78314400 | G58: =ROUND(F58/450*44/52,0) -> 147258 | H58: =ROUND(G58*D58*17.5/100,0) -> 618484 | I58: =ROUND(G58*D58*3/100,0) -> 106026 | J58: =ROUND(G58*D58*1/100,0) -> 35342 | K58: =ROUND(G58*D58*2/100,0) -> 70684 | L58: =SUM(H58:K58) -> 830536
C59: i) Lập hồ sơ quá trình làm việc cũng như kết quả đo kiểm | D59: 21 | E59: Nguyễn Hữu Mạnh | F59: =VLOOKUP(E59,$E$8:$F$13,2,0) -> 78314400 | G59: =ROUND(F59/450*44/52,0) -> 147258 | H59: =ROUND(G59*D59*17.5/100,0) -> 541173 | I59: =ROUND(G59*D59*3/100,0) -> 92773 | J59: =ROUND(G59*D59*1/100,0) -> 30924 | K59: =ROUND(G59*D59*2/100,0) -> 61848 | L59: =SUM(H59:K59) -> 726718
C60: j) Thực hiện công việc điều chỉnh đối với xe và các hệ thống trên xe | D60: 50 | E60: Nguyễn Hữu Mạnh | F60: =VLOOKUP(E60,$E$8:$F$13,2,0) -> 78314400 | G60: =ROUND(F60/450*44/52,0) -> 147258 | H60: =ROUND(G60*D60*17.5/100,0) -> 1288508 | I60: =ROUND(G60*D60*3/100,0) -> 220887 | J60: =ROUND(G60*D60*1/100,0) -> 73629 | K60: =ROUND(G60*D60*2/100,0) -> 147258 | L60: =SUM(H60:K60) -> 1730282
C61: k) Lập và thông qua biên bản đo kiểm | D61: 32 | E61: Nguyễn Hữu Mạnh | F61: =VLOOKUP(E61,$E$8:$F$13,2,0) -> 78314400 | G61: =ROUND(F61/450*44/52,0) -> 147258 | H61: =ROUND(G61*D61*17.5/100,0) -> 824645 | I61: =ROUND(G61*D61*3/100,0) -> 141368 | J61: =ROUND(G61*D61*1/100,0) -> 47123 | K61: =ROUND(G61*D61*2/100,0) -> 94245 | L61: =SUM(H61:K61) -> 1107381
A62: 21 | B62: TT5 | C62: Chẩn đoán lỗi và các sự cố trên xe và các hệ thống của xe | D62: 322 | G62: =ROUND(F62/450*44/52,0) -> 0 | H62: =ROUND(G62*D62*17.5/100,0) -> 0 | I62: =ROUND(G62*D62*3/100,0) -> 0 | J62: =ROUND(G62*D62*1/100,0) -> 0 | K62: =ROUND(G62*D62*2/100,0) -> 0 | L62: =SUM(H62:K62) -> 0
C63: a) Thấu hiểu khiếu nại của khách hàng, thực hiện kiểm tra chức năng và xác địnhphương pháp chẩn đoán | D63: 16 | E63: Hà Quốc Bảo | F63: =VLOOKUP(E63,$E$8:$F$13,2,0) -> 58110000 | G63: =ROUND(F63/450*44/52,0) -> 109267 | H63: =ROUND(G63*D63*17.5/100,0) -> 305948 | I63: =ROUND(G63*D63*3/100,0) -> 52448 | J63: =ROUND(G63*D63*1/100,0) -> 17483 | K63: =ROUND(G63*D63*2/100,0) -> 34965 | L63: =SUM(H63:K63) -> 410844
C64: b) Xác định các hư hỏng và nhiễu loạn chức năng trong hệ thống cơ khí, cơ điện tử, khí nén, thủy lực và trong hệ thống kết nối mạng của xe và trong các bộ phận của hệ thống | D64: 72 | E64: Hà Quốc Bảo | F64: =VLOOKUP(E64,$E$8:$F$13,2,0) -> 58110000 | G64: =ROUND(F64/450*44/52,0) -> 109267 | H64: =ROUND(G64*D64*17.5/100,0) -> 1376764 | I64: =ROUND(G64*D64*3/100,0) -> 236017 | J64: =ROUND(G64*D64*1/100,0) -> 78672 | K64: =ROUND(G64*D64*2/100,0) -> 157344 | L64: =SUM(H64:K64) -> 1848797
C65: c) Xác định lỗi và nguyên nhân với sự hỗ trợ của sơ đồ chức năng và sơ đồ mạch. | D65: 32 | E65: Hà Quốc Bảo | F65: =VLOOKUP(E65,$E$8:$F$13,2,0) -> 58110000 | G65: =ROUND(F65/450*44/52,0) -> 109267 | H65: =ROUND(G65*D65*17.5/100,0) -> 611895 | I65: =ROUND(G65*D65*3/100,0) -> 104896 | J65: =ROUND(G65*D65*1/100,0) -> 34965 | K65: =ROUND(G65*D65*2/100,0) -> 69931 | L65: =SUM(H65:K65) -> 821687
C66: d) Lập biên bản kiểm tra và lập hồ sơ kết quả kiểm tra | D66: 8 | E66: Hà Quốc Bảo | F66: =VLOOKUP(E66,$E$8:$F$13,2,0) -> 58110000 | G66: =ROUND(F66/450*44/52,0) -> 109267 | H66: =ROUND(G66*D66*17.5/100,0) -> 152974 | I66: =ROUND(G66*D66*3/100,0) -> 26224 | J66: =ROUND(G66*D66*1/100,0) -> 8741 | K66: =ROUND(G66*D66*2/100,0) -> 17483 | L66: =SUM(H66:K66) -> 205422
C67: e) Kiểm tra, đánh giá và tham khảo nguyện vọng khách hàng về các hệ thống điện trên xe, hệ thống điện tăng áp, hệ thống khởi động và hệ thống chiếu sáng, lập hồ sơ kết quả kiểm tra | D67: 40 | E67: Hà Quốc Bảo | F67: =VLOOKUP(E67,$E$8:$F$13,2,0) -> 58110000 | G67: =ROUND(F67/450*44/52,0) -> 109267 | H67: =ROUND(G67*D67*17.5/100,0) -> 764869 | I67: =ROUND(G67*D67*3/100,0) -> 131120 | J67: =ROUND(G67*D67*1/100,0) -> 43707 | K67: =ROUND(G67*D67*2/100,0) -> 87414 | L67: =SUM(H67:K67) -> 1027110
C68: f) Can thiệp bằng các biện pháp để loại bỏ nguy hại do lỗi cách điện | D68: 16 | E68: Hà Quốc Bảo | F68: =VLOOKUP(E68,$E$8:$F$13,2,0) -> 58110000 | G68: =ROUND(F68/450*44/52,0) -> 109267 | H68: =ROUND(G68*D68*17.5/100,0) -> 305948 | I68: =ROUND(G68*D68*3/100,0) -> 52448 | J68: =ROUND(G68*D68*1/100,0) -> 17483 | K68: =ROUND(G68*D68*2/100,0) -> 34965 | L68: =SUM(H68:K68) -> 410844
C69: g) Nhận biết mối quan hệ của các cơ sở dữ liệu giữa các thiết bị điều khiển | D69: 16 | E69: Hà Quốc Bảo | F69: =VLOOKUP(E69,$E$8:$F$13,2,0) -> 58110000 | G69: =ROUND(F69/450*44/52,0) -> 109267 | H69: =ROUND(G69*D69*17.5/100,0) -> 305948 | I69: =ROUND(G69*D69*3/100,0) -> 52448 | J69: =ROUND(G69*D69*1/100,0) -> 17483 | K69: =ROUND(G69*D69*2/100,0) -> 34965 | L69: =SUM(H69:K69) -> 410844
C70: h) Xác định tình trạng hệ thống với sự hỗ trợ của thiết bị chẩn đoán, đối chiếu thông tin tại ngân hàng cơ sở dữ liệu và đánh giá kết quả | D70: 24 | E70: Hà Quốc Bảo | F70: =VLOOKUP(E70,$E$8:$F$13,2,0) -> 58110000 | G70: =ROUND(F70/450*44/52,0) -> 109267 | H70: =ROUND(G70*D70*17.5/100,0) -> 458921 | I70: =ROUND(G70*D70*3/100,0) -> 78672 | J70: =ROUND(G70*D70*1/100,0) -> 26224 | K70: =ROUND(G70*D70*2/100,0) -> 52448 | L70: =SUM(H70:K70) -> 616265
C71: i) Vận dụng chương trình tìm lỗi, thông tin của nhà chế tạo và ngân hàng cơ sở dữ liệu cũng như sử dụng đường dây nóng và chẩn đoán từ xa | D71: 24 | E71: Hà Quốc Bảo | F71: =VLOOKUP(E71,$E$8:$F$13,2,0) -> 58110000 | G71: =ROUND(F71/450*44/52,0) -> 109267 | H71: =ROUND(G71*D71*17.5/100,0) -> 458921 | I71: =ROUND(G71*D71*3/100,0) -> 78672 | J71: =ROUND(G71*D71*1/100,0) -> 26224 | K71: =ROUND(G71*D71*2/100,0) -> 52448 | L71: =SUM(H71:K71) -> 616265
C72: j) Xác định, cập nhật phần mềm thiết bị điều khiển, thực hiện thiết lập lại hệ thống và điều chỉnh theo các trị số đã thu thập được | D72: 26 | E72: Hà Quốc Bảo | F72: =VLOOKUP(E72,$E$8:$F$13,2,0) -> 58110000 | G72: =ROUND(F72/450*44/52,0) -> 109267 | H72: =ROUND(G72*D72*17.5/100,0) -> 497165 | I72: =ROUND(G72*D72*3/100,0) -> 85228 | J72: =ROUND(G72*D72*1/100,0) -> 28409 | K72: =ROUND(G72*D72*2/100,0) -> 56819 | L72: =SUM(H72:K72) -> 667621
C73: k) Xác định các phương án chẩn đoán và sửa chữa trong mối quan hệ với đơn đặt hàng của khách hàng | D73: 24 | E73: Hà Quốc Bảo | F73: =VLOOKUP(E73,$E$8:$F$13,2,0) -> 58110000 | G73: =ROUND(F73/450*44/52,0) -> 109267 | H73: =ROUND(G73*D73*17.5/100,0) -> 458921 | I73: =ROUND(G73*D73*3/100,0) -> 78672 | J73: =ROUND(G73*D73*1/100,0) -> 26224 | K73: =ROUND(G73*D73*2/100,0) -> 52448 | L73: =SUM(H73:K73) -> 616265
C74: I) Kiểm tra, đánh giá và tham khảo ý kiến khách hàng về các hệ thống tiện nghi, hệ thống an toàn và hệ thống hỗ trợ lái, lập hồ sơ kết quả kiểm tra | D74: 24 | E74: Hà Quốc Bảo | F74: =VLOOKUP(E74,$E$8:$F$13,2,0) -> 58110000 | G74: =ROUND(F74/450*44/52,0) -> 109267 | H74: =ROUND(G74*D74*17.5/100,0) -> 458921 | I74: =ROUND(G74*D74*3/100,0) -> 78672 | J74: =ROUND(G74*D74*1/100,0) -> 26224 | K74: =ROUND(G74*D74*2/100,0) -> 52448 | L74: =SUM(H74:K74) -> 616265
A75: 22 | B75: TT6 | C75: Tháo, sửa chữa và lắp các chi tiết, cụm chi tiết và các hệ thống của xe | D75: 502 | G75: =ROUND(F75/450*44/52,0) -> 0 | H75: =ROUND(G75*D75*17.5/100,0) -> 0 | I75: =ROUND(G75*D75*3/100,0) -> 0 | J75: =ROUND(G75*D75*1/100,0) -> 0 | K75: =ROUND(G75*D75*2/100,0) -> 0 | L75: =SUM(H75:K75) -> 0
C76: a) Cho ngừng hoạt động, tháo rời các chi tiết, cụm chi tiết và hệ thống của xe; nhận diện các vật liệu nguy hiểm đối với sức khỏe và an toàn lao động; kiểm tra, đánh dấu chi tiết có khả năng tái sử dụng và sắp xếp một cách có hệ thống | D76: 50 | E76: Triệu Phú Nguyên | F76: =VLOOKUP(E76,$E$8:$F$13,2,0) -> 72056400 | G76: =ROUND(F76/450*44/52,0) -> 135491 | H76: =ROUND(G76*D76*17.5/100,0) -> 1185546 | I76: =ROUND(G76*D76*3/100,0) -> 203237 | J76: =ROUND(G76*D76*1/100,0) -> 67746 | K76: =ROUND(G76*D76*2/100,0) -> 135491 | L76: =SUM(H76:K76) -> 1592020
C77: b) Phân loại các chi tiết, cụm chi tiết và các hệ thống và kiểm tra sự đồng bộ của chúng | D77: 16 | E77: Triệu Phú Nguyên | F77: =VLOOKUP(E77,$E$8:$F$13,2,0) -> 72056400 | G77: =ROUND(F77/450*44/52,0) -> 135491 | H77: =ROUND(G77*D77*17.5/100,0) -> 379375 | I77: =ROUND(G77*D77*3/100,0) -> 65036 | J77: =ROUND(G77*D77*1/100,0) -> 21679 | K77: =ROUND(G77*D77*2/100,0) -> 43357 | L77: =SUM(H77:K77) -> 509447
C78: c) Làm sạch, đóng gói và lưu kho các chi tiết và cụm chi tiết | D78: 24 | E78: Triệu Phú Nguyên | F78: =VLOOKUP(E78,$E$8:$F$13,2,0) -> 72056400 | G78: =ROUND(F78/450*44/52,0) -> 135491 | H78: =ROUND(G78*D78*17.5/100,0) -> 569062 | I78: =ROUND(G78*D78*3/100,0) -> 97554 | J78: =ROUND(G78*D78*1/100,0) -> 32518 | K78: =ROUND(G78*D78*2/100,0) -> 65036 | L78: =SUM(H78:K78) -> 764170
C79: d) Lắp ráp các chi tiết, cụm chi tiết và hệ thống của xe, đặc biệt chú ý khi lắp các mối ghép ren về trình tự lắp và cân lực khi lắp | D79: 21 | E79: Triệu Phú Nguyên | F79: =VLOOKUP(E79,$E$8:$F$13,2,0) -> 72056400 | G79: =ROUND(F79/450*44/52,0) -> 135491 | H79: =ROUND(G79*D79*17.5/100,0) -> 497929 | I79: =ROUND(G79*D79*3/100,0) -> 85359 | J79: =ROUND(G79*D79*1/100,0) -> 28453 | K79: =ROUND(G79*D79*2/100,0) -> 56906 | L79: =SUM(H79:K79) -> 668647
C80: e) Lắp hoàn chỉnh, chạy thử cũng như kiểm tra chức năng và độ chính xác về hình dạng của các chi tiết, cụm chi tiết và các hệ thống | D80: 48 | E80: Triệu Phú Nguyên | F80: =VLOOKUP(E80,$E$8:$F$13,2,0) -> 72056400 | G80: =ROUND(F80/450*44/52,0) -> 135491 | H80: =ROUND(G80*D80*17.5/100,0) -> 1138124 | I80: =ROUND(G80*D80*3/100,0) -> 195107 | J80: =ROUND(G80*D80*1/100,0) -> 65036 | K80: =ROUND(G80*D80*2/100,0) -> 130071 | L80: =SUM(H80:K80) -> 1528338
C81: f) Chuẩn bị bề mặt để chổng rỉ, bổ sung, làm mới lớp chống rỉ | D81: 40 | E81: Triệu Phú Nguyên | F81: =VLOOKUP(E81,$E$8:$F$13,2,0) -> 72056400 | G81: =ROUND(F81/450*44/52,0) -> 135491 | H81: =ROUND(G81*D81*17.5/100,0) -> 948437 | I81: =ROUND(G81*D81*3/100,0) -> 162589 | J81: =ROUND(G81*D81*1/100,0) -> 54196 | K81: =ROUND(G81*D81*2/100,0) -> 108393 | L81: =SUM(H81:K81) -> 1273615
C82: g) Kiểm tra vị trí của các chi tiết, cụm chi tiết, đo độ sai lệch vị trí | D82: 16 | E82: Triệu Phú Nguyên | F82: =VLOOKUP(E82,$E$8:$F$13,2,0) -> 72056400 | G82: =ROUND(F82/450*44/52,0) -> 135491 | H82: =ROUND(G82*D82*17.5/100,0) -> 379375 | I82: =ROUND(G82*D82*3/100,0) -> 65036 | J82: =ROUND(G82*D82*1/100,0) -> 21679 | K82: =ROUND(G82*D82*2/100,0) -> 43357 | L82: =SUM(H82:K82) -> 509447
C83: h) Vạch dấu, đánh dấu đường chuẩn, tâm lỗ và đường biên có chú ý đến tính chất vật liệu; cắt và biến dạng chi tiết, bán thành phẩm. | D83: 41 | E83: Triệu Phú Nguyên | F83: =VLOOKUP(E83,$E$8:$F$13,2,0) -> 72056400 | G83: =ROUND(F83/450*44/52,0) -> 135491 | H83: =ROUND(G83*D83*17.5/100,0) -> 972148 | I83: =ROUND(G83*D83*3/100,0) -> 166654 | J83: =ROUND(G83*D83*1/100,0) -> 55551 | K83: =ROUND(G83*D83*2/100,0) -> 111103 | L83: =SUM(H83:K83) -> 1305456
C84: i) Xác định và điều chỉnh các thông số gia công của máy khoan cố định và máy khoan cầm tay; khoan và khoét lỗ trên các chi tiết gia công và chi tiết máy. | D84: 40 | E84: Triệu Phú Nguyên | F84: =VLOOKUP(E84,$E$8:$F$13,2,0) -> 72056400 | G84: =ROUND(F84/450*44/52,0) -> 135491 | H84: =ROUND(G84*D84*17.5/100,0) -> 948437 | I84: =ROUND(G84*D84*3/100,0) -> 162589 | J84: =ROUND(G84*D84*1/100,0) -> 54196 | K84: =ROUND(G84*D84*2/100,0) -> 108393 | L84: =SUM(H84:K84) -> 1273615
C85: j) Chế tạo và bảo trì ren trong và ren ngoài | D85: 16 | E85: Triệu Phú Nguyên | F85: =VLOOKUP(E85,$E$8:$F$13,2,0) -> 72056400 | G85: =ROUND(F85/450*44/52,0) -> 135491 | H85: =ROUND(G85*D85*17.5/100,0) -> 379375 | I85: =ROUND(G85*D85*3/100,0) -> 65036 | J85: =ROUND(G85*D85*1/100,0) -> 21679 | K85: =ROUND(G85*D85*2/100,0) -> 43357 | L85: =SUM(H85:K85) -> 509447
C86: k) Chế tạo, kiểm tra, bảo trì và lập hồ sơ cho các mối nối và cụm kết nối điện | D86: 8 | E86: Triệu Phú Nguyên | F86: =VLOOKUP(E86,$E$8:$F$13,2,0) -> 72056400 | G86: =ROUND(F86/450*44/52,0) -> 135491 | H86: =ROUND(G86*D86*17.5/100,0) -> 189687 | I86: =ROUND(G86*D86*3/100,0) -> 32518 | J86: =ROUND(G86*D86*1/100,0) -> 10839 | K86: =ROUND(G86*D86*2/100,0) -> 21679 | L86: =SUM(H86:K86) -> 254723
C87: l) Bảo trì các cụm chi tiết và hệ thống dễ bị mài mòn, đặc biệt hệ thống phanh | D87: 40 | E87: Triệu Phú Nguyên | F87: =VLOOKUP(E87,$E$8:$F$13,2,0) -> 72056400 | G87: =ROUND(F87/450*44/52,0) -> 135491 | H87: =ROUND(G87*D87*17.5/100,0) -> 948437 | I87: =ROUND(G87*D87*3/100,0) -> 162589 | J87: =ROUND(G87*D87*1/100,0) -> 54196 | K87: =ROUND(G87*D87*2/100,0) -> 108393 | L87: =SUM(H87:K87) -> 1273615
... C92: q) Tôn trọng các quy tắc an toàn lao động về điện trên các hệ thống điện, đặcbiệt trên hệ thống cao áp và pin nhiên liệu | D92: 24 | E92: Triệu Phú Nguyên | F92: =VLOOKUP(E92,$E$8:$F$13,2,0) -> 72056400 | G92: =ROUND(F92/450*44/52,0) -> 135491 | H92: =ROUND(G92*D92*17.5/100,0) -> 569062 | I92: =ROUND(G92*D92*3/100,0) -> 97554 | J92: =ROUND(G92*D92*1/100,0) -> 32518 | K92: =ROUND(G92*D92*2/100,0) -> 65036 | L92: =SUM(H92:K92) -> 764170
A93: 23 | B93: TT7 | C93: Thực hiện khám xe theo quy định của pháp luật | D93: 122 | G93: =ROUND(F93/450*44/52,0) -> 0 | H93: =ROUND(G93*D93*17.5/100,0) -> 0 | I93: =ROUND(G93*D93*3/100,0) -> 0 | J93: =ROUND(G93*D93*1/100,0) -> 0 | K93: =ROUND(G93*D93*2/100,0) -> 0 | L93: =SUM(H93:K93) -> 0
C94: a) Chuẩn bị xe cho việc kiểm định theo quy định của pháp luật | D94: 32 | E94: Nguyễn Hữu Mạnh | F94: =VLOOKUP(E94,$E$8:$F$13,2,0) -> 78314400 | G94: =ROUND(F94/450*44/52,0) -> 147258 | H94: =ROUND(G94*D94*17.5/100,0) -> 824645 | I94: =ROUND(G94*D94*3/100,0) -> 141368 | J94: =ROUND(G94*D94*1/100,0) -> 47123 | K94: =ROUND(G94*D94*2/100,0) -> 94245 | L94: =SUM(H94:K94) -> 1107381
C95: b) Kiểm tra độ an toàn vận hành và an toàn giao thông của xe, lập hồ sơ các khiếm khuyết và đưa ra các biện pháp khắc phục | D95: 45 | E95: Nguyễn Hữu Mạnh | F95: =VLOOKUP(E95,$E$8:$F$13,2,0) -> 78314400 | G95: =ROUND(F95/450*44/52,0) -> 147258 | H95: =ROUND(G95*D95*17.5/100,0) -> 1159657 | I95: =ROUND(G95*D95*3/100,0) -> 198798 | J95: =ROUND(G95*D95*1/100,0) -> 66266 | K95: =ROUND(G95*D95*2/100,0) -> 132532 | L95: =SUM(H95:K95) -> 1557253
C96: c) Xác định các trị số tiêu chuẩn và các trị số tức thời bằng hệ thống chẩn đoán, chọn trị số điều chỉnh, thực hiện việc điều chỉnh và lập biên bản kết quả | D96: 45 | E96: Nguyễn Hữu Mạnh | F96: =VLOOKUP(E96,$E$8:$F$13,2,0) -> 78314400 | G96: =ROUND(F96/450*44/52,0) -> 147258 | H96: =ROUND(G96*D96*17.5/100,0) -> 1159657 | I96: =ROUND(G96*D96*3/100,0) -> 198798 | J96: =ROUND(G96*D96*1/100,0) -> 66266 | K96: =ROUND(G96*D96*2/100,0) -> 132532 | L96: =SUM(H96:K96) -> 1557253
A97: 24 | B97: TT8 | C97: Trang bị, cải hoán và nâng cấp bánh xe, khung sườn cũng như thân vỏ của chủng loại xe | D97: 127 | E97: Nguyễn Hữu Mạnh | F97: =VLOOKUP(E97,$E$8:$F$13,2,0) -> 78314400 | G97: =ROUND(F97/450*44/52,0) -> 147258 | H97: =ROUND(G97*D97*17.5/100,0) -> 3272809 | I97: =ROUND(G97*D97*3/100,0) -> 561053 | J97: =ROUND(G97*D97*1/100,0) -> 187018 | K97: =ROUND(G97*D97*2/100,0) -> 374035 | L97: =SUM(H97:K97) -> 4394915
C98: a) Xác định bánh xe, khung sườn cũng như thân vỏ của chủng loại xe | D98: 45 | E98: Nguyễn Hữu Mạnh | F98: =VLOOKUP(E98,$E$8:$F$13,2,0) -> 78314400 | G98: =ROUND(F98/450*44/52,0) -> 147258 | H98: =ROUND(G98*D98*17.5/100,0) -> 1159657 | I98: =ROUND(G98*D98*3/100,0) -> 198798 | J98: =ROUND(G98*D98*1/100,0) -> 66266 | K98: =ROUND(G98*D98*2/100,0) -> 132532 | L98: =SUM(H98:K98) -> 1557253
C99: b) Bố trí, lắp đặt, thay thế phụ tùng, trang bị bổ sung và các thiết bị đặc biệt theo quy định của pháp luật và tài liệu kỹ thuật; kiểm tra chức năng cũng như lập biên bản về sự thay đổi | D99: 34 | E99: Nguyễn Hữu Mạnh | F99: =VLOOKUP(E99,$E$8:$F$13,2,0) -> 78314400 | G99: =ROUND(F99/450*44/52,0) -> 147258 | H99: =ROUND(G99*D99*17.5/100,0) -> 876185 | I99: =ROUND(G99*D99*3/100,0) -> 150203 | J99: =ROUND(G99*D99*1/100,0) -> 50068 | K99: =ROUND(G99*D99*2/100,0) -> 100135 | L99: =SUM(H99:K99) -> 1176591
C100: c) Cố định các chi tiết và hệ thống vào khối liên kết của xe | D100: 16 | E100: Nguyễn Hữu Mạnh | F100: =VLOOKUP(E100,$E$8:$F$13,2,0) -> 78314400 | G100: =ROUND(F100/450*44/52,0) -> 147258 | H100: =ROUND(G100*D100*17.5/100,0) -> 412322 | I100: =ROUND(G100*D100*3/100,0) -> 70684 | J100: =ROUND(G100*D100*1/100,0) -> 23561 | K100: =ROUND(G100*D100*2/100,0) -> 47123 | L100: =SUM(H100:K100) -> 553690
C101: d) Mã hóa và tham số hóa các thiết bị điều khiển, cập nhật phần mềm ứng dụng, lập hồ sơ về sự thay dổi | D101: 16 | E101: Nguyễn Hữu Mạnh | F101: =VLOOKUP(E101,$E$8:$F$13,2,0) -> 78314400 | G101: =ROUND(F101/450*44/52,0) -> 147258 | H101: =ROUND(G101*D101*17.5/100,0) -> 412322 | I101: =ROUND(G101*D101*3/100,0) -> 70684 | J101: =ROUND(G101*D101*1/100,0) -> 23561 | K101: =ROUND(G101*D101*2/100,0) -> 47123 | L101: =SUM(H101:K101) -> 553690
C102: e) Hướng dẫn khách hàng trong việc sử dụng thiết bị và hướng dẫn về những điều pháp luật cho phép | D102: 16 | E102: Nguyễn Hữu Mạnh | F102: =VLOOKUP(E102,$E$8:$F$13,2,0) -> 78314400 | G102: =ROUND(F102/450*44/52,0) -> 147258 | H102: =ROUND(G102*D102*17.5/100,0) -> 412322 | I102: =ROUND(G102*D102*3/100,0) -> 70684 | J102: =ROUND(G102*D102*1/100,0) -> 23561 | K102: =ROUND(G102*D102*2/100,0) -> 47123 | L102: =SUM(H102:K102) -> 553690
A103: 25 | B103: TT9 | C103: Ngừng và đưa vào hoạt động các hệ thống kỹ thuật của xe | D103: 82 | E103: Hà Quốc Bảo | F103: =VLOOKUP(E103,$E$8:$F$13,2,0) -> 58110000 | G103: =ROUND(F103/450*44/52,0) -> 109267 | H103: =ROUND(G103*D103*17.5/100,0) -> 1567981 | I103: =ROUND(G103*D103*3/100,0) -> 268797 | J103: =ROUND(G103*D103*1/100,0) -> 89599 | K103: =ROUND(G103*D103*2/100,0) -> 179198 | L103: =SUM(H103:K103) -> 2105575
A104: 26 | B104: TT10 | C104: Chẩn đoán lỗi và các sự cố trên xe và trên các hệ thống của xe | D104: 614 | G104: =ROUND(F104/450*44/52,0) -> 0 | H104: =ROUND(G104*D104*17.5/100,0) -> 0 | I104: =ROUND(G104*D104*3/100,0) -> 0 | J104: =ROUND(G104*D104*1/100,0) -> 0 | K104: =ROUND(G104*D104*2/100,0) -> 0 | L104: =SUM(H104:K104) -> 0
C105: a) Xác định các phương án chẩn đoán và sửa chữa | D105: 48 | E105: Nguyễn Anh Tuấn | F105: =VLOOKUP(E105,$E$8:$F$13,2,0) -> 89757600 | G105: =ROUND(F105/450*44/52,0) -> 168775 | H105: =ROUND(G105*D105*17.5/100,0) -> 1417710 | I105: =ROUND(G105*D105*3/100,0) -> 243036 | J105: =ROUND(G105*D105*1/100,0) -> 81012 | K105: =ROUND(G105*D105*2/100,0) -> 162024 | L105: =SUM(H105:K105) -> 1903782
...

Sheet PL3. Ngoai ngữ
A1: Phụ lục 3:
A2: DỰ TOÁN KINH PHÍ TỔ CHỨC ĐÀO TẠO NGOẠI NGỮ CHUYÊN NGÀNH VÀ THI KIỂM TRA ĐÁNH GIÁ NGOẠI NGỮ ĐỂ ĐẠT TRÌNH ĐỘ B1 KHUNG NĂNG LỰC NGOẠI NGỮ CHÂU ÂU
A3: - Ngoại ngữ: Tiếng Đức - Thời gian học: 2019-2023 - Giáo viên nước ngoài: 01 - Giáo viên Việt Nam: - Trợ giảng:
A4: STT | B4: NỘI DUNG | C4: ĐƠN VỊ | D4: SỐ LƯỢNG | E4: ĐƠN GIÁ | F4: THÀNH TIỀN
A5: 1 | B5: Lương giáo viên nước ngoài | C5: Giờ | D5: 420 | E5: 1000000 | F5: =E5*D5 -> 420000000
A6: 2 | B6: Tài liệu, giáo trình | C6: Bộ | D6: 16 | E6: 1100000 | F6: =E6*D6 -> 17600000
A7: 3 | B7: Tổ chức thi cấp chứng chỉ B1 | C7: Người | D7: 16 | E7: 4000000 | F7: =E7*D7 -> 64000000
A8: 4 | B8: Tài khoản học online | C8: SV | D8: 16 | E8: 2200000 | F8: =E8*D8 -> 35200000
A9: 5 | B9: Đánh giá năng lực đầu vào | C9: Người | D9: 85 | E9: 150000 | F9: =E9*D9 -> 12750000
A10: Tổng cộng | F10: =SUM(F5:F9) -> 549550000

Sheet PL4.Vật tư
A1: Phụ lục 4
A2: DỰ TOÁN CHI CHÍ VẬT TƯ HỌC TẬP VÀ THI TỐT NGHIỆP NGHỀ CÔNG NGHỆ Ô TÔ TRÌNH ĐỘ CAO ĐẲNG NGHỀ THEO CHƯƠNG TRÌNH CỦA CHLB ĐỨC
A4: Số TT | B4: Nguyên vật liệu | C4: Đơn vị | D4: Số lượng (cho 16 SV) | E4: Đơn giá (đồng) | G4: Thành tiền (đồng) | H4: Ghi chú | J4: Số TT | K4: Nguyên vật liệu | L4: Đơn vị | M4: Số lượng | N4: Ghi chú
B5: NHÓM VẬT TƯ VĂN PHÒNG PHẨM | H5: Cho 7 học kỳ | M5: (cho 16 SV)
A6: 1 | B6: Giấy A4 Màu dùng để làm thẻ màu in | C6: Ream | D6: 20 | E6: 165000 | G6: =D6*E6 -> 3300000 | J6: 1 | K6: Giấy A4 Màu dùng để làm thẻ màu in | L6: Ream | M6: 20 | O6: =D6-M6 -> 0
A7: 2 | B7: Giấy A4 in tài liệu phát tay | C7: Ream | D7: 60 | E7: 99000 | G7: =D7*E7 -> 5940000 | J7: 2 | K7: Giấy A4 in tài liệu phát tay | L7: Ream | M7: 60 | O7: =D7-M7 -> 0
A8: 3 | B8: Mực in | C8: Hộp | D8: 30 | E8: 816750 | G8: =D8*E8 -> 24502500 | J8: 3 | K8: Mực in | L8: Hộp | M8: 30 | O8: =D8-M8 -> 0
A9: 4 | B9: Giấy A0 | C9: Tờ | D9: 500 | E9: 27500 | G9: =D9*E9 -> 13750000 | J9: 4 | K9: Giấy A0 | L9: Tờ | M9: 500 | O9: =D9-M9 -> 0
A10: 5 | B10: Nam châm viên dính bảng | C10: Viên | D10: 100 | E10: 11000 | G10: =D10*E10 -> 1100000 | J10: 5 | K10: Nam châm viên dính bảng | L10: Viên | M10: 100 | O10: =D10-M10 -> 0
A11: 6 | B11: Bút dạ | C11: Chiếc | D11: 220 | E11: 16500 | G11: =D11*E11 -> 3630000 | J11: 6 | K11: Bút dạ | L11: Chiếc | M11: 220 | O11: =D11-M11 -> 0
A12: 7 | B12: Phấn viết bảng | C12: Hộp | D12: 21 | E12: 16500 | G12: =D12*E12 -> 346500 | J12: 7 | K12: Phấn viết bảng | L12: Hộp | M12: 21 | O12: =D12-M12 -> 0
A13: 8 | B13: Sổ viết | C13: Quyển | D13: 512 | E13: 22000 | G13: =D13*E13 -> 11264000 | J13: 8 | K13: Sổ viết | L13: Quyển | M13: 512 | O13: =D13-M13 -> 0
A14: 9 | B14: Sách chuyên ngành | C14: Quyển | D14: 448 | E14: 385000 | G14: =D14*E14 -> 1.7248e+08
A15: 10 | B15: Giấy đề can A4 trắng | C15: Tờ | D15: 600 | E15: 550 | G15: =D15*E15 -> 330000 | J15: 9 | K15: Sách chuyên nghành | L15: Quyển | M15: 448 | O15: =D15-M15 -> 152
A16: 11 | B16: Giấy đề can A3 | C16: Tờ | D16: 300 | E16: 1100 | G16: =D16*E16 -> 330000 | K16: Giấy Couche bóng theo thông số kỹ thuật kích thước A4 dạng Decal định lượng 150 gsm | O16: =D16-M16 -> 300
B17: Giấy Couche bóng theo thông số kỹ thuật kích thước A3, định lượng 80 - 120 gsm | E17: 0 | J17: 11 | K17: Giấy đề can A3 | L17: Tờ | M17: 300 | O17: =D17-M17 -> -300
A18: 12 | B18: Giấy in A1 | C18: Tờ | D18: 50 | E18: 7700 | G18: =D18*E18 -> 385000 | J18: 12 | K18: Giấy in A1 | L18: Tờ | M18: 50 | O18: =D18-M18 -> 0
A19: 13 | B19: Giấy in A3 | C19: Tờ | D19: 3500 | E19: 550 | G19: =D19*E19 -> 1925000 | J19: 14 | K19: Bút dạ kim (màu xanh, đen, đỏ) | L19: Chiếc | M19: 160 | O19: =D19-M19 -> 3340
A20: 14 | B20: Bút dạ kim (màu xanh, đen, đỏ) | C20: Chiếc | D20: 160 | E20: 11000 | G20: =D20*E20 -> 1760000 | K20: Bút dạ kim - màu xanh | M20: 40 | O20: =D20-M20 -> 120
B21: Bút dạ kim - màu xanh | D21: 40 | E21: 0 | K21: Bút dạ kim - màu đỏ | M21: 40 | O21: =D21-M21 -> 0
B22: Bút dạ kim - màu đỏ | D22: 40 | E22: 0 | K22: Bút dạ xanh | M22: 40 | O22: =D22-M22 -> 0
B23: Bút dạ xanh | D23: 40 | E23: 0 | K23: Bút viết bảng trắng | M23: 40 | O23: =D23-M23 -> 0
B24: Bút viết bảng trắng | D24: 40 | E24: 0 | J24: 15 | K24: Bút sơn | L24: Chiếc | M24: 120 | O24: =D24-M24 -> -80
A25: 15 | B25: Bút sơn | C25: Chiếc | D25: 120 | E25: 16500 | G25: =D25*E25 -> 1980000 | J25: 16 | K25: Bút dạ không xóa | L25: Chiếc | M25: 120 | O25: =D25-M25 -> 0
A26: 16 | B26: Bút dạ không xóa | C26: Chiếc | D26: 120 | E26: 16500 | G26: =D26*E26 -> 1980000 | K26: - Màu sắc: Màu xanh | O26: =D26-M26 -> 120
B27: - Màu sắc: Màu xanh | E27: 0 | K27: - Bút 2 đầu, kiểu dáng thon nhỏ | O27: =D27-M27 -> 0
B28: - Bút 2 đầu, kiểu dáng thon nhỏ | E28: 0 | J28: 17 | K28: Bút bi mực xanh | L28: Chiếc | M28: 120 | O28: =D28-M28 -> -120
A29: 17 | B29: Bút bi mực xanh | C29: Chiếc | D29: 120 | E29: 5500 | G29: =D29*E29 -> 660000 | K29: - Đóng gói: 30cây/ca | O29: =D29-M29 -> 120
B30: - Đóng gói: 30cây/ca | E30: 0 | K30: - Màu sắc: Màu xanh | O30: =D30-M30 -> 0
B31: - Màu sắc: Màu xanh | E31: 0 | J31: 18 | K31: Bút bi - mực đỏ | L31: Chiếc | M31: 120 | O31: =D31-M31 -> -120
A32: 18 | B32: Bút bi - mực đỏ | C32: Chiếc | D32: 120 | E32: 5500 | G32: =D32*E32 -> 660000 | K32: - Đóng gói: 30 cây/ca | O32: =D32-M32 -> 120
B33: - Đóng gói: 30 cây/ca | E33: 0 | K33: - Màu sắc: Màu đỏ | O33: =D33-M33 -> 0
B34: - Màu sắc: Màu đỏ | E34: 0 | J34: 19 | K34: Bút nhớ dòng | L34: Chiếc | M34: 120 | O34: =D34-M34 -> -120
A35: 19 | B35: Bút nhớ dòng | C35: Chiếc | D35: 120 | E35: 13200 | G35: =D35*E35 -> 1584000 | K35: - Có 3 mầu để lựa chọn: vàng, xanh, đỏ | O35: =D35-M35 -> 120
B36: - Có 3 mầu để lựa chọn: vàng, xanh, đỏ | E36: 0 | K36: - Bút có 2 đầu giúp tăng thêm tính năng sử dụng | O36: =D36-M36 -> 0
B37: - Bút có 2 đầu giúp tăng thêm tính năng sử dụng | E37: 0 | J37: 20 | K37: Bút xoá | L37: Chiếc | M37: 120 | O37: =D37-M37 -> -120
A38: 20 | B38: Bút xoá | C38: Chiếc | D38: 120 | E38: 22000 | G38: =D38*E38 -> 2640000 | K38: Bút chì | L38: Chiếc | M38: 120 | O38: =D38-M38 -> 0
B39: Bút chì | C39: Chiếc | D39: 120 | E39: 5500 | G39: =D39*E39 -> 660000 | K39: -Có tẩy | O39: =D39-M39 -> 120
B40: -Có tẩy | E40: 0 | K40: -Các loại: HB, 2B, 3B | O40: =D40-M40 -> 0
B41: -Các loại: HB, 2B, 3B | E41: 0 | J41: 21 | K41: Gọt bút chì | L41: Chiếc | M41: 10 | O41: =D41-M41 -> -10
A42: 21 | B42: Gọt bút chì | C42: Chiếc | D42: 10 | E42: 16500 | G42: =D42*E42 -> 165000 | J42: 22 | K42: Tẩy chì | L42: Chiếc | M42: 30 | O42: =D42-M42 -> -20
A43: 22 | B43: Tẩy chì | C43: Chiếc | D43: 30 | E43: 11000 | G43: =D43*E43 -> 330000 | J43: 23 | K43: Còi tuýt điều hành hoạt động nhóm | L43: Chiếc | M43: 4 | O43: =D43-M43 -> 26
A44: 23 | B44: Còi tuýt điều hành hoạt động nhóm | C44: Chiếc | D44: 4 | E44: 22000 | G44: =D44*E44 -> 88000 | J44: 24 | K44: Túi miết- Kích thước: 240x340 mm | L44: Chiếc | M44: 180 | O44: =D44-M44 -> -176
B45: - Còi trọng tài Fox | E45: 0 | J45: 25 | K45: Khăn mềm lau tay (Khăn lau vuông trắng thường) Chất liệu: Cotton | L45: Chiếc | M45: 180 | O45: =D45-M45 -> -180
A46: 24 | B46: Túi miết | C46: Chiếc | D46: 180 | E46: 11000 | G46: =D46*E46 -> 1980000 | J46: 26 | K46: Khăn giấy ướt cho phòng chuyên gia | L46: Hộp | M46: 84 | O46: =D46-M46 -> 96
B47: - Kích thước: 240x340 mm | E47: 0 | J47: 27 | K47: Trình ký 2 mặt xi xanh EKE | L47: Chiếc | M47: 66 | O47: =D47-M47 -> -66
A48: 25 | B48: Khăn mềm lau tay (Khăn lau vuông trắng thường) | C48: Chiếc | D48: 180 | E48: 5500 | G48: =D48*E48 -> 990000 | K48: Trình ký 2 mặt xi xanh EKE khổ A4 | M48: 11 | O48: =D48-M48 -> 169
B49: - Chất liệu: Cotton | E49: 0 | K49: Khung kẹp giấy A4 | M49: 11 | O49: =D49-M49 -> -11
A50: 26 | B50: Khăn giấy ướt cho phòng chuyên gia | C50: Hộp | D50: 84 | E50: 5500 | G50: =D50*E50 -> 462000 | K50: Trình ký sọc A4 | M50: 11 | O50: =D50-M50 -> 73
A51: 27 | B51: Trình ký 2 mặt xi xanh EKE | C51: Chiếc | D51: 66 | E51: 22000 | G51: =D51*E51 -> 1452000 | K51: File tài liệu chất liệu nhựa khổ A4 | M51: 11 | O51: =D51-M51 -> 55
B52: Trình ký 2 mặt xi xanh EKE khổ A4 | D52: 11 | E52: 0 | K52: File trình ký chất liệu nhựa khổ A4 | M52: 11 | O52: =D52-M52 -> 0
B53: Khung kẹp giấy A4 | D53: 11 | E53: 0 | K53: Cặp kẹp hồ sơ A4 | M53: 11 | O53: =D53-M53 -> 0
B54: Trình ký sọc A4 | D54: 11 | E54: 0 | J54: 28 | K54: Bộ eke | L54: Bộ | M54: 16 | O54: =D54-M54 -> -5
B55: File tài liệu chất liệu nhựa khổ A4 | D55: 11 | E55: 0 | K55: Loại: 45 độ, 60 độ, 90 độ | O55: =D55-M55 -> 11
B56: File trình ký chất liệu nhựa khổ A4 | D56: 11 | E56: 0 | K56: Vật liệu: Nhựa cao cấp, trong suốt | O56: =D56-M56 -> 11
B57: Cặp kẹp hồ sơ A4 | D57: 11 | E57: 0 | J57: 29 | K57: Hộp chia File (hộp đựng tài liệu) | L57: Chiếc | M57: 40 | O57: =D57-M57 -> -29
A58: 28 | B58: Bộ eke | C58: Bộ | D58: 16 | E58: 55000 | G58: =D58*E58 -> 880000 | K58: Vật liệu: cách nhiệt | O58: =D58-M58 -> 16
B59: Loại: 45 độ, 60 độ, 90 độ | E59: 0 | J59: 30 | K59: File clear A3 | L59: Chiếc | M59: 40 | O59: =D59-M59 -> -40
B60: Vật liệu: Nhựa cao cấp, trong suốt | E60: 0 | K60: Kích cỡ: 7cm | O60: =D60-M60 -> 0
A61: 29 | B61: Hộp chia File (hộp đựng tài liệu) | C61: Chiếc | D61: 40 | E61: 77000 | G61: =D61*E61 -> 3080000 | J61: 31 | K61: Giấy ghi nhớ | L61: Tệp | M61: 40 | O61: =D61-M61 -> 0
B62: Vật liệu: cách nhiệt | E62: 0 | K62: - Pronoti 3x5 | O62: =D62-M62 -> 0
A63: 30 | B63: File clear A3 | C63: Chiếc | D63: 40 | E63: 55000 | G63: =D63*E63 -> 2200000 | J63: 32 | K63: Sổ tay B6 | L63: Quyển | M63: 40 | O63: =D63-M63 -> 0
B64: Kích cỡ: 7cm | E64: 0 | K64: -Kích thước: B6 | O64: =D64-M64 -> 0
A65: 31 | B65: Giấy ghi nhớ | C65: Tệp | D65: 40 | E65: 11000 | G65: =D65*E65 -> 440000 | K65: -Độ dày: 160 trang | O65: =D65-M65 -> 40
B66: - Pronoti 3x5 | E66: 0 | J66: 33 | K66: File còng bìa nhựa | L66: Chiếc | M66: 40 | O66: =D66-M66 -> -40
A67: 32 | B67: Sổ tay B6 | C67: Quyển | D67: 40 | E67: 22000 | G67: =D67*E67 -> 880000 | J67: 34 | K67: Băng dính lụa Simili 3,6cm xanh Blue | O67: =D67-M67 -> 40
B68: -Kích thước: B6 | E68: 0 | K68: - Kích thước: 3,6cm | O68: =D68-M68 -> 0
B69: -Độ dày: 160 trang | E69: 0 | K69: - Màu xanh ( Blue) | O69: =D69-M69 -> 0
A70: 33 | B70: File còng bìa nhựa | C70: Chiếc | D70: 40 | E70: 33000 | G70: =D70*E70 -> 1320000 | J70: 35 | K70: Băng dính trong 2cm | L70: Cuộn | M70: 40 | O70: =D70-M70 -> 0
A71: 34 | B71: Băng dính lụa Simili 3,6cm xanh Blue | C71: Cuộn | D71: 8 | E71: 13200 | G71: =D71*E71 -> 105600 | K71: - Kích thước: 3,6cm | O71: =D71-M71 -> 8
B72: - Kích thước: 3,6cm | E72: 0 | J72: 36 | K72: Túi clear bag các loại | L72: Chiếc | M72: 40 | O72: =D72-M72 -> -40
B73: - Màu xanh (Blue) | E73: 0 | J73: 37 | K73: Băng keo trong nhỏ | L73: Cuộn | M73: 40 | O73: =D73-M73 -> -40
A74: 35 | B74: Băng dính trong 2cm | C74: Cuộn | D74: 40 | E74: 13200 | G74: =D74*E74 -> 528000 | K74: - Băng dính T12.100 màng 43 kích thước 1cm | O74: =D74-M74 -> 40
B75: - Kích thước: 3,6cm | E75: 0 | K75: - Kích thước: 1cm | O75: =D75-M75 -> 0
A76: 36 | B76: Túi clear bag các loại | C76: Chiếc | D76: 40 | E76: 7700 | G76: =D76*E76 -> 308000 | J76: 38 | K76: Compass | L76: Chiếc | M76: 20 | O76: =D76-M76 -> 20
A77: 37 | B77: Băng keo trong nhỏ | C77: Cuộn | D77: 40 | E77: 5500 | G77: =D77*E77 -> 220000 | J77: 39 | K77: Kẹp bấm lỗ (kẹp acco), hộp 50 chiếc | L77: Chiếc | M77: 40 | O77: =D77-M77 -> 0
B78: - Băng dính T12.100 màng 43 kích thước 1cm | E78: 0 | J78: 40 | K78: Giấy gián Tommy (sticker) | L78: Túi | M78: 40 | O78: =D78-M78 -> -40
B79: - Kích thước: 1cm | E79: 0 | K79: - Số lượng: 10 tờ/túi | O79: =D79-M79 -> 0
A80: 38 | B80: Compass | C80: Chiếc | D80: 20 | E80: 44000 | G80: =D80*E80 -> 880000 | J80: 41 | K80: Bảng lót cắt loại A4 | L80: Chiếc | M80: 40 | O80: =D80-M80 -> -20
A81: 39 | B81: Kẹp bấm lỗ (kẹp acco), hộp 50 chiếc | C81: Chiếc | D81: 40 | E81: 33000 | G81: =D81*E81 -> 1320000 | J81: 42 | K81: Giấy hộp rút (200tờ/hộp) | M81: 38 | O81: =D81-M81 -> 2
A82: 40 | B82: Giấy gián Tommy (sticker) | C82: Túi | D82: 40 | E82: 11000 | G82: =D82*E82 -> 440000 | K82: - Chất liệu: cao cấp | O82: =D82-M82 -> 40
B83: - Số lượng: 10 tờ/túi | E83: 0 | K83: - Loại: (200 tờ/ hộp) | O83: =D83-M83 -> 0
A84: 41 | B84: Bảng lót cắt loại A4 | C84: Chiếc | D84: 40 | E84: 33000 | G84: =D84*E84 -> 1320000 | J84: 43 | K84: Kẹp bướm | L84: Hộp | M84: 40 | O84: =D84-M84 -> 0
A85: 42 | B85: Giấy hộp rút (200tờ/hộp) | D85: 38 | E85: 33000 | G85: =D85*E85 -> 1254000 | K85: - Loại: Kẹp giấy | O85: =D85-M85 -> 38
B86: - Chất liệu: cao cấp | E86: 0 | G86: =D86*E86 -> 0 | K86: - Chất liệu: Sắt | O86: =D86-M86 -> 0
B87: - Loại: (200 tờ/ hộp) | E87: 0 | G87: =D87*E87 -> 0 | J87: 44 | K87: Giấy note Deli 5 màu | L87: Tập | M87: 40 | O87: =D87-M87 -> -40
A88: 43 | B88: Kẹp bướm | C88: Hộp | D88: 40 | E88: 55000 | G88: =D88*E88 -> 2200000 | K88: Băng dính cách điện | L88: Cuộn | M88: 40 | O88: =D88-M88 -> 0
B89: - Loại: Kẹp giấy | E89: 0 | J89: 45 | K89: Gim tài liệu hộp | L89: Hộp | M89: 40 | O89: =D89-M89 -> -40
B90: - Chất liệu: Sắt | E90: 0 | K90: Ghim cài tài liệu tam giác; 90 chiếc/hộp | O90: =D90-M90 -> 0
A91: 44 | B91: Giấy note Deli 5 màu | C91: Tập | D91: 40 | E91: 16500 | G91: =D91*E91 -> 660000 | J91: 46 | K91: Bìa còng (file tài liệu) KingJim A4 - 9cm | L91: Chiếc | M91: 40 | O91: =D91-M91 -> 0
B92: Băng dính cách điện | C92: Cuộn | D92: 40 | E92: 11000 | G92: =D92*E92 -> 440000 | K92: - Kích thước: A4 - 9cm | O92: =D92-M92 -> 40
A93: 45 | B93: Gim tài liệu hộp | C93: Hộp | D93: 40 | E93: 44000 | G93: =D93*E93 -> 1760000 | J93: 47 | K93: Bấm lỗ | L93: Chiếc | M93: 14 | O93: =D93-M93 -> 26
B94: - Ghim cài tài liệu tam giác; 90 chiếc/hộp | E94: 0 | J94: 48 | K94: Băng dính (loại 1 mặt - màu xanh) Kích thước: 36mm | L94: Cuộn | M94: 40 | O94: =D94-M94 -> -40
A95: 46 | B95: Bìa còng (file tài liệu) KingJim A4 - 9cm | C95: Chiếc | D95: 40 | E95: 55000 | G95: =D95*E95 -> 2200000 | J95: 49 | K95: Giá treo đồ | L95: Chiếc | M95: 7 | O95: =D95-M95 -> 33
B96: - Kích thước: A4 - 9cm | E96: 0 | J96: 50 | K96: Băng dính màu vàng dán nền 5F (cuộn to) | L96: Cuộn | M96: 40 | O96: =D96-M96 -> -40
A97: 47 | B97: Bấm lỗ | C97: Chiếc | D97: 14 | E97: 110000 | G97: =D97*E97 -> 1540000 | J97: 51 | K97: Máy tính cầm tay 12 số | L97: Chiếc | M97: 7 | O97: =D97-M97 -> 7
A98: 48 | B98: Băng dính (loại 1 mặt - màu xanh) | C98: Cuộn | D98: 40 | E98: 13200 | G98: =D98*E98 -> 528000 | K98: - Màn hình 12 số, Bộ nhớ M + | O98: =D98-M98 -> 40
B99: Kích thước: 36mm | E99: 0 | J99: 52 | K99: Hồ dán khô | L99: Tuýp | M99: 40 | O99: =D99-M99 -> -40
A100: 49 | B100: Giá treo đồ | C100: Chiếc | D100: 7 | E100: 495000 | G100: =D100*E100 -> 3465000 | J100: 53 | K100: Thước kẻ Thiên Long | L100: Chiếc | M100: 28 | O100: =D100-M100 -> -21
A101: 50 | B101: Băng dính màu vàng dán nền 5F (cuộn to) | C101: Cuộn | D101: 40 | E101: 55000 | G101: =D101*E101 -> 2200000 | K101: - Đặc tính: Thước có chiều dài 30cm bằng nhựa trong suốt | O101: =D101-M101 -> 40
...

Sheet PL5.Điện nước
A1: Phụ lục 5
A2: DỰ TOÁN CHI PHÍ TIÊU HAO ĐIỆN, NƯỚC NGHỀ CÔNG NGHỆ Ô TÔ
A4: TT | B4: Tên thiết bị | C4: Đơn vị tính | D4: Số lượng thiết bị sử dụng | E4: Số giờ sử dụng | F4: Công suất TB (W) | G4: Tổng tiêu hao (KW) | H4: Đơn giá (đồng/kwh) | I4: Thành tiền (đồng) | J4: Ghi chú
A5: (1) | B5: (2) | C5: (3) | D5: (4) | E5: (5) | F5: (6) | G5: (7) | H5: (8) | I5: (9) | J5: (10)
A6: A | B6: Định mức tiêu hao điện
A7: I | B7: PHÒNG HỌC LÝ THUYẾT
A8: 1 | B8: Quạt trần điện cơ 91 | C8: Cái | D8: 8 | E8: 1100 | F8: 75 | G8: 660 | H8: =1839*120% -> 2206.8 | I8: =H8*G8 -> 1456488
A9: 2 | B9: Máy vi tính | C9: Cái | D9: 1 | E9: 1100 | F9: 500 | G9: 550 | H9: =1839*120% -> 2206.8 | I9: =H9*G9 -> 1213740
A10: 3 | B10: Đèn tuýp | C10: Bộ | D10: 16 | E10: 1100 | F10: 80 | G10: 1408 | H10: =1839*120% -> 2206.8 | I10: =H10*G10 -> 3107174.4
A11: 4 | B11: Máy chiếu | C11: Cái | D11: 1 | E11: 1100 | F11: 300 | G11: 330 | H11: =1839*120% -> 2206.8 | I11: =H11*G11 -> 728244
A12: 5 | B12: Điều hòa | C12: Bộ | D12: 4 | E12: 1100 | F12: 5000 | G12: 22000 | H12: =1839*120% -> 2206.8 | I12: =H12*G12 -> 48549600
A13: 6 | B13: Loa | C13: Cái | D13: 4 | E13: 1100 | F13: 150 | G13: 660 | H13: =1839*120% -> 2206.8 | I13: =H13*G13 -> 1456488
A14: II | B14: PHÒNG HỌC MÁY TÍNH
A15: 1 | B15: Quạt trần | C15: Cái | D15: 8 | E15: 100 | F15: 75 | G15: 60 | H15: =1839*120% -> 2206.8 | I15: =H15*G15 -> 132408
A16: 2 | B16: Đèn tuýp | C16: Bộ | D16: 16 | E16: 100 | F16: 80 | G16: 128 | H16: =1839*120% -> 2206.8 | I16: =H16*G16 -> 282470.4
A17: 3 | B17: Máy chiếu | C17: Cái | D17: 1 | E17: 100 | F17: 300 | G17: 30 | H17: =1839*120% -> 2206.8 | I17: =H17*G17 -> 66204
A18: 4 | B18: Máy tính | C18: Cái | D18: 17 | E18: 100 | F18: 500 | G18: 850 | H18: =1839*120% -> 2206.8 | I18: =H18*G18 -> 1875780
A19: 5 | B19: Điều hòa | C19: Bộ | D19: 4 | E19: 100 | F19: 5000 | G19: 2000 | H19: =1839*120% -> 2206.8 | I19: =H19*G19 -> 4413600
A20: III | B20: XƯỞNG THỰC HÀNH NGUỘI | H20: =1839*120% -> 2206.8
A21: 1 | B21: Quạt treo tường | C21: Cái | D21: 8 | E21: 1168 | F21: 60 | G21: 560.64 | H21: =1839*120% -> 2206.8 | I21: =H21*G21 -> 1237220.4
A22: 2 | B22: Đèn tuýp | C22: Bộ | D22: 16 | E22: 1168 | F22: 80 | G22: 1495.04 | H22: =1839*120% -> 2206.8 | I22: =H22*G22 -> 3299254.3
A23: 3 | B23: Máy chiếu | C23: Cái | D23: 1 | E23: 1168 | F23: 300 | G23: 350.4 | H23: =1839*120% -> 2206.8 | I23: =H23*G23 -> 773262.72
A24: 4 | B24: Máy mài 2 đá | C24: Cái | D24: 1 | E24: 400 | F24: 1500 | G24: 600 | H24: =1839*120% -> 2206.8 | I24: =H24*G24 -> 1324080
A25: 5 | B25: Máy Khoan bàn | C25: Cái | D25: 2 | E25: 400 | F25: 2000 | G25: 1600 | H25: =1839*120% -> 2206.8 | I25: =H25*G25 -> 3530880
A26: 6 | B26: Máy khoan cầm tay | C26: Cái | D26: 4 | E26: 300 | F26: 1000 | G26: 1200 | H26: =1839*120% -> 2206.8 | I26: =H26*G26 -> 2648160
A27: 7 | B27: Máy mài cầm tay | C27: Cái | D27: 4 | E27: 400 | F27: 2000 | G27: 3200 | H27: =1839*120% -> 2206.8 | I27: =H27*G27 -> 7061760
A28: 8 | B28: Máy hàn điện | C28: Cái | D28: 4 | E28: 300 | F28: 2000 | G28: 2400 | H28: =1839*120% -> 2206.8 | I28: =H28*G28 -> 5296320
A29: IV | B29: XƯỞNG ĐIỆN - ĐIỆN TỬ Ô TÔ
A30: 1 | B30: Dàn nâng Ô tô | C30: Cái | D30: 2 | E30: 400 | F30: 5000 | G30: 4000 | H30: =1839*120% -> 2206.8 | I30: =H30*G30 -> 8827200
A31: 2 | B31: Máy cân chỉnh đèn pha ô tô | C31: Cái | D31: 1 | E31: 400 | F31: 2000 | G31: 800 | H31: =1839*120% -> 2206.8 | I31: =H31*G31 -> 1765440
A32: 3 | B32: Máy nạp ác quy Ô tô | C32: Cái | D32: 3 | E32: 1000 | F32: 3000 | G32: 9000 | H32: =1839*120% -> 2206.8 | I32: =H32*G32 -> 19861200
A33: 4 | B33: Máy tính | C33: Cái | D33: 5 | E33: 1768 | F33: 500 | G33: 4420 | H33: =1839*120% -> 2206.8 | I33: =H33*G33 -> 9754056
A34: 5 | B34: Máy chiếu | C34: Cái | D34: 1 | E34: 1768 | F34: 300 | G34: 530.4 | H34: =1839*120% -> 2206.8 | I34: =H34*G34 -> 1170486.7
A35: 6 | B35: Quạt treo tường | C35: Cái | D35: 8 | E35: 1768 | F35: 60 | G35: 848.64 | H35: =1839*120% -> 2206.8 | I35: =H35*G35 -> 1872778.8
A36: 7 | B36: Đèn tuýp | C36: Bộ | D36: 12 | E36: 1768 | F36: 80 | G36: 1697.28 | H36: =1839*120% -> 2206.8 | I36: =H36*G36 -> 3745557.5
A37: V | B37: XƯỞNG GẦM Ô TÔ
A38: 1 | B38: Dàn nâng ô tô | C38: Cái | D38: 2 | E38: 500 | F38: 5000 | G38: 5000 | H38: =1839*120% -> 2206.8 | I38: =H38*G38 -> 11034000
A39: 2 | B39: Thiết bịtháo lắp lốp xe | C39: Bộ | D39: 1 | E39: 500 | F39: 3000 | G39: 1500 | H39: =1839*120% -> 2206.8 | I39: =H39*G39 -> 3310200
A40: 3 | B40: Thiết bị cân bằng lốp xe | C40: Bộ | D40: 1 | E40: 500 | F40: 3000 | G40: 1500 | H40: =1839*120% -> 2206.8 | I40: =H40*G40 -> 3310200
A41: 4 | B41: Thiết bị hút Air của hệthống phanh thủy lực | C41: Bộ | D41: 1 | E41: 500 | F41: 3000 | G41: 1500 | H41: =1839*120% -> 2206.8 | I41: =H41*G41 -> 3310200
A42: 5 | B42: Thiết bị nạp điện | C42: Bộ | D42: 2 | E42: 1000 | F42: 1500 | G42: 3000 | H42: =1839*120% -> 2206.8 | I42: =H42*G42 -> 6620400
A43: 6 | B43: Máy tính | C43: Cái | D43: 5 | E43: 1768 | F43: 500 | G43: 4420 | H43: =1839*120% -> 2206.8 | I43: =H43*G43 -> 9754056
A44: 7 | B44: Máy chiếu | C44: Cái | D44: 1 | E44: 1768 | F44: 300 | G44: 530.4 | H44: =1839*120% -> 2206.8 | I44: =H44*G44 -> 1170486.7
A45: 8 | B45: Quạt treo tường | C45: Cái | D45: 8 | E45: 1768 | F45: 60 | G45: 848.64 | H45: =1839*120% -> 2206.8 | I45: =H45*G45 -> 1872778.8
A46: 9 | B46: Đèn tuýp | C46: Bộ | D46: 16 | E46: 1768 | F46: 80 | G46: 2263.04 | H46: =1839*120% -> 2206.8 | I46: =H46*G46 -> 4994076.7
A47: VI | B47: XƯỞNG HỆ THỐNG ĐIỀU KHIỂN Ô TÔ
A48: 1 | B48: Quạt treo tường | C48: Cái | D48: 8 | E48: 884 | F48: 60 | G48: 424.32 | H48: =1839*120% -> 2206.8 | I48: =H48*G48 -> 936389.38
A49: 2 | B49: Đèn tuýp | C49: 16 | D49: 12 | E49: 884 | F49: 80 | G49: 848.64 | H49: =1839*120% -> 2206.8 | I49: =H49*G49 -> 1872778.8
A50: 3 | B50: Dàn nâng ô tô | C50: Cái | D50: 2 | E50: 200 | F50: 5000 | G50: 2000 | H50: =1839*120% -> 2206.8 | I50: =H50*G50 -> 4413600
A51: 4 | B51: Thiết bị nạp điện | C51: Bộ | D51: 2 | E51: 1000 | F51: 1500 | G51: 3000 | H51: =1839*120% -> 2206.8 | I51: =H51*G51 -> 6620400
A52: 5 | B52: Máy tính cài phần mềm sửa xe | C52: Bộ | D52: 9 | E52: 700 | F52: 500 | G52: 3150 | H52: =1839*120% -> 2206.8 | I52: =H52*G52 -> 6951420
A53: 6 | B53: Máy chiếu | C53: Cái | D53: 1 | E53: 884 | F53: 300 | G53: 265.2 | H53: =1839*120% -> 2206.8 | I53: =H53*G53 -> 585243.36
A54: Cộng | I54: =SUM(I8:I53) -> 2.0220608e+08
A55: B. Định mức tiêu hao nước
A56: TT | B56: Nội dung | C56: Đơn vị tính | D56: Định mức nước tiêu thụ /1SV/1 ngày học | E56: Tổng tiêu thụ 1 SV/ 1 khóa học | F56: Tổng tiêu thụ cho 1 lớp | G56: Quy đổi ra m3 | H56: Đơn giá | I56: Thành tiền | J56: Ghi chú
A57: 1 | B57: Nước làm sạch thiết bị thực hành | C57: Lít | D57: 03 lít | E57: 2300 lít | F57: 36800 lít | G57: 36.8 | H57: 6000 | I57: =H57*G57 -> 220800
A58: 2 | B58: Nước vệ sinh cá nhân | C58: Lít | D58: 15 lít | E58: 11.600 lít | F58: 185600 lít | G58: 185.6 | H58: 6000 | I58: =H58*G58 -> 1113600
A59: 3 | B59: Nước uống | C59: Lít | D59: 02 lít | E59: 1600 lít | F59: 25600 lít | G59: 25.6 | H59: 10000 | I59: =H59*G59 -> 256000
A60: 4 | B60: Nước làm sạch nền xưởng | C60: Lít | D60: 02 lít | E60: 1600 lít | F60: 25600 lít | G60: 25.6 | H60: 6000 | I60: =H60*G60 -> 153600
A61: 5 | B61: Nước làm sạch khu vệ sinh | C61: Lít | D61: 10 lít | E61: 8000 lít | F61: 128000 lít | G61: 128 | H61: 6000 | I61: =H61*G61 -> 768000
A62: Cộng | I62: =SUM(I57:I61) -> 2512000
A63: Tổng cộng (A+B) | I63: =I62+I54 -> 2.0471808e+08
A64: Bằng chữ: Hai trăm linh bốn triệu, bảy trăm mười tám nghìn, không trăm tám mươi ba đồng

Sheet PL6- Sua chua TS
B1: Phụ lục 6
A2: DỰ TOÁN CHI PHÍ SỬA CHỮA NHỎ TÀI SẢN, TRANG THIẾT BỊ ĐÀO TẠO NGHỀ CÔNG NGHỆ Ô TÔ
A4: TT | B4: Hạng mục sửa chữa, thay thế | C4: Đơn vị tính | D4: Số lượt sửa chữa, thay thế | E4: Đơn giá (đồng) | F4: Thành tiền (đồng) | G4: Ghi chú
A5: 1 | B5: Đèn tuýp | C5: Chiếc | D5: 144 | E5: 90000 | F5: =E5*D5 -> 12960000 | G5: Thay bóng, sửa chữa khi có hư hỏng | H5: 182
A6: 2 | B6: Sơn sàn nhà | C6: Phòng | D6: 1 | E6: 25000000 | F6: =E6*D6 -> 25000000 | G6: Sau 3 năm
A7: 3 | B7: Sơn tường | C7: Phòng | D7: 1 | E7: 20000000 | F7: =E7*D7 -> 20000000 | G7: Sau 3 năm
A8: 4 | B8: Quạt trần | C8: Cái | D8: 54 | E8: 250000 | F8: =E8*D8 -> 13500000 | G8: Sửa chữa, bảo dưỡng hàng năm | H8: 30
A9: 5 | B9: Máy chiếu | C9: Chiếc | D9: 3 | E9: 3000000 | F9: =E9*D9 -> 9000000 | G9: Tuổi thọ 2000/3000 giờ | H9: 4
A10: 6 | B10: Máy in | C10: Bộ | D10: 3 | E10: 250000 | F10: =E10*D10 -> 750000 | G10: Bảo dưỡng 3 lượt/bộ/khóa học
A11: 7 | B11: Thiết bị mạng | C11: Bộ | D11: 2 | E11: 250000 | F11: =E11*D11 -> 500000 | G11: Bảo dưỡng 3 lượt/cái/khóa học
A12: 8 | B12: Thiết bị chẩn đoán và đọc lỗi động cơ KTS 540 ECU DIAGNOSTIC | C12: Bộ | D12: 1 | E12: 50000000 | F12: =E12*D12 -> 50000000 | G12: Cập nhật phần mềm
A13: 9 | B13: Máy nạp ắc quy có trợ đề Dynamic 620 | C13: Chiếc | D13: 1 | E13: 2000000 | F13: =E13*D13 -> 2000000 | G13: Thay cuộn dây biến áp
A14: 10 | B14: Thiết bị phân tich khí xả động cơ Xăng | C14: Bộ | D14: 1 | E14: 3000000 | F14: =E14*D14 -> 3000000 | G14: Bổ sung các bộ lọc, thay đầu dò
A15: 11 | B15: Thiết bị phân tich khí xả động cơ Diesel | C15: Bộ | D15: 1 | E15: 3000000 | F15: =E15*D15 -> 3000000 | G15: Bổ sung các bộ lọc, thay đầu dò
A16: 12 | B16: Thiết bị thay dầu phanh và xả khí hệ thống phanh | C16: Bộ | D16: 1 | E16: =250000*3 -> 750000 | F16: =E16*D16 -> 750000 | G16: Bảo dưỡng 01 lần/01 năm
A17: 13 | B17: Panel hệ thống điện xe | C17: Chiếc | D17: 1 | E17: 3000000 | F17: =E17*D17 -> 3000000 | G17: Thay thế các bộ phận bị hỏng
A18: 14 | B18: Máy tính cá nhân (PC) | C18: Thẻ | D18: 3 | E18: 300000 | F18: =E18*D18 -> 900000 | G18: Mua phần mềm diệt vi rút cho 3 năm
A19: 15 | B19: Dàn nâng ô tô | C19: Lần | D19: 2 | E19: 1000000 | F19: =E19*D19 -> 2000000 | G19: Thay dầu định kỳ 1,5 năm/lần
A20: 16 | B20: Xe mô hình với hệ thống chiếu sáng thông thường | C20: Bộ | D20: 1 | E20: 1500000 | F20: =E20*D20 -> 1500000 | G20: Thay thế đui, chóa (nếu vỡ hỏng)
A21: 17 | B21: Xe mô hình với hệ thống chiếu sáng Xenon cũng như hệ thống chiếu sáng LED | C21: Bộ | D21: 1 | E21: 2500000 | F21: =E21*D21 -> 2500000 | G21: Thay thế đui, chóa, (nếu vỡ hỏng)
A22: 18 | B22: Hộp đánh PAN | C22: Chiếc | D22: 1 | E22: 3000000 | F22: =E22*D22 -> 3000000 | G22: Thay thế các bộ phận bị lỗi trong quá trình đánh pan
A23: 19 | B23: Thiết bị chẩn đoán ô tô cho nhiều dòng xe | C23: Bộ | D23: 1 | E23: 50000000 | F23: =E23*D23 -> 50000000 | G23: Cập nhật phần mềm
A24: 20 | B24: Thiết bị chẩn đoán ABS 3416-03 | C24: Bộ | D24: 1 | E24: 50000000 | F24: =E24*D24 -> 50000000 | G24: Cập nhật dữ liệu xe mới theo năm
A25: 21 | B25: Chỉ dẫn kỹ thuật bảo dưỡng sửa chữa xe của nhà sản xuất | C25: Bộ | D25: 3 | E25: 5000000 | F25: =E25*D25 -> 15000000 | G25: Cập nhật dữ liệu xe mới theo năm
A26: 22 | B26: Thiết bị tháo lắp lốp xe | C26: Bộ | D26: 1 | E26: 1000000 | F26: =E26*D26 -> 1000000 | G26: thay ống dẫn khí (3 năm sử dụng). Bảo dưỡng mô tơ
A27: 23 | B27: Máy nạp ga điều hòa | C27: Cái | D27: 3 | E27: 500000 | F27: =E27*D27 -> 1500000 | G27: Thay lọc
A28: 24 | B28: Máy láng đĩa phanh | C28: Cái | D28: 6 | E28: 1000000 | F28: =E28*D28 -> 6000000 | G28: Dao láng đĩa
A29: 25 | B29: Màn hình máy tính | C29: Chiếc | D29: 38 | E29: 300000 | F29: =E29*D29 -> 11400000 | G29: Bảo dưỡng 4 lượt/máy/khóa
A30: Tổng | F30: =SUM(F5:F29) -> 288260000
B31: Bằng chữ: Hai trăm tám mươi tám triệu, hai trăm sáu mươi nghìn đồng chẵn.
A33: Ghi chú:
A34: Những chi phí trên bao gồm chi phí bảo dưỡng, sửa chữa và thay thế các thiết bị hư hỏng và cập nhật các phần mềm dữ liệu theo từng năm

Sheet PL7.Quản lý
A1: Phụ lục 7:
A2: DỰ TOÁN CHI PHÍ QUẢN LÝ LỚP HỌC
A4: TT | B4: Nội dung | C4: ĐVT | D4: Số lượng | E4: Đơn giá | F4: Thành tiền
A5: I | B5: Phụ cấp trách nhiệm
A6: 1 | B6: Chi cho Ban chỉ đạo | C6: Tháng | D6: 42 | E6: 1500000 | F6: =D6*E6 -> 63000000
A7: 2 | B7: Cán bộ quản lý lớp học, điều phối viên | C7: Tháng | D7: 42 | E7: 500000 | F7: =D7*E7 -> 21000000
A8: 3 | B8: Cán bộ lớp | C8: Tháng | D8: 42 | E8: 200000 | F8: =D8*E8 -> 8400000
A9: 4 | B9: Điện thoại, EMS, Internet… | C9: Tháng | D9: 42 | E9: 200000 | F9: =D9*E9 -> 8400000
A10: II | B10: Hội nghị, hội thảo; công tác tuyên truyền; đi lại
A11: 1 | B11: Hội nghị, hội thảo khoảng 40 người/cuộc (bao gồm: In bảng maktet, nước uống, báo cáo, tài liệu,....) | C11: Cuộc | D11: 6 | E11: 8000000 | F11: =E11*D11 -> 48000000
A12: 2 | B12: Công tác tuyên truyền
B13: Quảng cáo trên báo | C13: Số | D13: 3 | E13: 1000000 | F13: =E13*D13 -> 3000000
B14: Quảng cáo trên đài truyền hình | C14: Lần | D14: 3 | E14: 10000000 | F14: =E14*D14 -> 30000000
B15: Quảng cáo trên đài truyền thanh các xã, huyện… | C15: Ngày | D15: 10 | E15: 800000 | F15: =E15*D15 -> 8000000
B16: Tờ rơi | C16: Tờ | D16: 1000 | E16: 1000 | F16: =E16*D16 -> 1000000
B17: Pa nô kích thước 2,5 x 4m | C17: Tấm | D17: 20 | E17: 700000 | F17: =E17*D17 -> 14000000
B18: Áp phích kích thước 1,5 x1 m | C18: Tấm | D18: 20 | E18: 300000 | F18: =E18*D18 -> 6000000
B19: Băng zôn kích thước 1 x5 m | C19: Tấm | D19: 20 | E19: 500000 | F19: =E19*D19 -> 10000000
A20: 3 | B20: Chi phí đi lại dự các Hội nghị triển khai, sơ kết, tổng kết khóa học: Số lượng người theo yêu cầu của cơ quan tổ chức hội nghị | C20: Lần | D20: 15 | E20: 7000000 | F20: =E20*D20 -> 105000000
A21: III | B21: Văn phòng phẩm cho công tác quản lý | E21: 200000 | F21: 3200000
A22: 1 | B22: Giấy A4 | C22: Gam | D22: 42 | E22: 80000 | F22: 800000
A23: 2 | B23: Mực máy in, photo | C23: Hộp | D23: 14 | E23: 100000 | F23: 500000
A24: TỔNG CỘNG | F24: =SUM(F6:F23) -> 330300000

Sheet PL8.Học bổng
A1: Phụ lục 8:
A2: DỰ TOÁN CHI HỌC BỔNG CHO SINH VIÊN
A3: Căn cứ thực hiện theo Quyết định số 70/2008/QĐ-LĐTBXH ngày 30/12/2008 của Bộ trưởng Bộ Lao động, Thương binh và Xã hội về học bổng khuyến khích dạy nghề
A5: TT | B5: Năm học | C5: Mức thu học phí (đ/tháng/SV) | D5: Số tháng/năm học | E5: SL SV | F5: Số tiền chi học bổng | G5: Ghi chú
A6: 1 | B6: Học phí năm học 2019-2020 | C6: 850000 | D6: 10 | E6: 16 | F6: =C6*D6*E6*0.15 -> 20400000 | G6: Trích 15% quĩ học phí để chi học bổng
A7: 2 | B7: Học phí năm học 2020-2021 | C7: 935000 | D7: 10 | E7: 16 | F7: =C7*D7*E7*0.15 -> 22440000
A8: 3 | B8: Học phí năm học 2021-2022 | C8: 1030000 | D8: 10 | E8: 16 | F8: =C8*D8*E8*0.15 -> 24720000
A9: 4 | B9: Học phí năm học 2022-2023 | C9: 1135000 | D9: 5 | E9: 16 | F9: =C9*D9*E9*0.15 -> 13620000
A10: Tổng cộng: | F10: =SUM(F6:F9) -> 81180000
